BEGIN:VCALENDAR
VERSION:2.0
PRODID:-//Société Française d’Anesthésie et de Réanimation - ECPv6.15.12.2//NONSGML v1.0//EN
CALSCALE:GREGORIAN
METHOD:PUBLISH
X-ORIGINAL-URL:https://sfar.org
X-WR-CALDESC:évènements pour Société Française d’Anesthésie et de Réanimation
REFRESH-INTERVAL;VALUE=DURATION:PT1H
X-Robots-Tag:noindex
X-PUBLISHED-TTL:PT1H
BEGIN:VTIMEZONE
TZID:Europe/Paris
BEGIN:DAYLIGHT
TZOFFSETFROM:+0100
TZOFFSETTO:+0200
TZNAME:CEST
DTSTART:20240331T010000
END:DAYLIGHT
BEGIN:STANDARD
TZOFFSETFROM:+0200
TZOFFSETTO:+0100
TZNAME:CET
DTSTART:20241027T010000
END:STANDARD
BEGIN:DAYLIGHT
TZOFFSETFROM:+0100
TZOFFSETTO:+0200
TZNAME:CEST
DTSTART:20250330T010000
END:DAYLIGHT
BEGIN:STANDARD
TZOFFSETFROM:+0200
TZOFFSETTO:+0100
TZNAME:CET
DTSTART:20251026T010000
END:STANDARD
BEGIN:DAYLIGHT
TZOFFSETFROM:+0100
TZOFFSETTO:+0200
TZNAME:CEST
DTSTART:20260329T010000
END:DAYLIGHT
BEGIN:STANDARD
TZOFFSETFROM:+0200
TZOFFSETTO:+0100
TZNAME:CET
DTSTART:20261025T010000
END:STANDARD
END:VTIMEZONE
BEGIN:VEVENT
DTSTART;VALUE=DATE:20251104
DTEND;VALUE=DATE:20251106
DTSTAMP:20260422T013809
CREATED:20250218T142645Z
LAST-MODIFIED:20251103T110042Z
UID:10000496-1762214400-1762387199@sfar.org
SUMMARY:Formation AS : Pour aller plus loin
DESCRIPTION:Type inscriptions\nTarif\n\n\n\n\nMédecins\, internes\, FFI : membre SFAR à jour 2025\nGratuit\n\n\nInfirmiers (IADE & IDE) membre SFAR à jour 2025 avec Pack éducationnel\nGratuit\n\n\nEtudiants infirmiers\, membre SFAR  à jour 2025\nGratuit\n\n\nInterne non-membre SFAR\n150 €*\n\n\nAide-soignant(e) non-membre SFAR\n200 €*\n\n\n\n\n  \nINSCRIPTIONS NON-MEMBRES \nInscription non-membre \n  \nINSCRIPTIONS Membres :  \nCe contenu est réservé aux membres du niveau 2025 - Médecins\, 2025 - Médecins - Interne 1 à 4\, 2025 - Médecins - Interne 5\, 2025 - Médecins - FFI (DFMS)\, 2025 - Médecins - Retraité\, 2025 - Paramédicaux - IADE\, 2025 - Paramédicaux - Etudiant IADE\, 2025 - Paramédicaux - IDE\, 2025 - Paramédicaux - Etudiant IDE\, 2025 - Paramédicaux - Aide-Soignant\, 2025 - Paramédicaux - Auxiliaire de puériculture\, 2025 - Paramédicaux - Kiné\, Psychologues\, Nutritionnistes\, Diététiciens\, 2025 - Paramédicaux - Assistant de recherche clinique\, 2025 - Interne autre spécialité - 1 à 4\, et 2025 - Interne autre spécialité - 5 uniquement.AdhérerDéjà membre ? Connectez-vous ici
URL:https://sfar.org/evenement/formation-as-pour-aller-plus-loin/
LOCATION:Siège SFAR\, 6 bis rue Jean Macé\, Paris\, 75011\, France
CATEGORIES:AS,Formations,Formations paramédicales
ATTACH;FMTTYPE=image/png:https://sfar.org/wp-content/uploads/2024/09/logo-ide-rea-300.png
END:VEVENT
BEGIN:VEVENT
DTSTART;VALUE=DATE:20251106
DTEND;VALUE=DATE:20251107
DTSTAMP:20260422T013809
CREATED:20250217T100554Z
LAST-MODIFIED:20260421T153732Z
UID:10000495-1762387200-1762473599@sfar.org
SUMMARY:Formation accès vasculaires superficiels échoguidés
DESCRIPTION:  \n \n\n\n\n\nType inscriptions\nTarif\n\n\n\n\nMédecins\, internes\, FFI : membre SFAR à jour 2025\nGratuit\n\n\nInfirmiers (IADE & IDE) membre SFAR à jour 2025 avec Pack éducationnel\nGratuit\n\n\nEtudiants infirmiers\, membre SFAR  à jour 2025\nGratuit\n\n\nMédecin non-membre SFAR\n600 €*\n\n\nInterne non-membre SFAR\n150 €*\n\n\nParamédical non-membre SFAR\n300 €*\n\n\n\n\n\nFiche pédagogique \n\nINSCRIPTION CLOSES
URL:https://sfar.org/evenement/formation-acces-vasculaires-superficiels-echoguides-8/
LOCATION:PARIS
CATEGORIES:Formations,IADE
ATTACH;FMTTYPE=image/png:https://sfar.org/wp-content/uploads/2024/09/logo-iade-300.png
END:VEVENT
BEGIN:VEVENT
DTSTART;VALUE=DATE:20251106
DTEND;VALUE=DATE:20251108
DTSTAMP:20260422T013809
CREATED:20250203T161425Z
LAST-MODIFIED:20251103T110137Z
UID:10000480-1762387200-1762559999@sfar.org
SUMMARY:Formation AS : Les indispensables
DESCRIPTION:Type inscriptions\nTarif\n\n\n\n\nMédecins\, internes\, FFI : membre SFAR à jour 2025\nGratuit\n\n\nInfirmiers (IADE & IDE) membre SFAR à jour 2025 avec Pack éducationnel\nGratuit\n\n\nEtudiants infirmiers\, membre SFAR  à jour 2025\nGratuit\n\n\nInterne non-membre SFAR\n150 €*\n\n\nAide-soignant(e) non-membre SFAR\n200 €*\n\n\n\n\n  \nINSCRIPTIONS NON-MEMBRES \n  \nInscriptions non-membres \nINSCRIPTIONS Membres :  \nCe contenu est réservé aux membres du niveau 2025 - Médecins\, 2025 - Médecins - Interne 1 à 4\, 2025 - Médecins - Interne 5\, 2025 - Médecins - FFI (DFMS)\, 2025 - Médecins - Retraité\, 2025 - Paramédicaux - IADE\, 2025 - Paramédicaux - Etudiant IADE\, 2025 - Paramédicaux - IDE\, 2025 - Paramédicaux - Etudiant IDE\, 2025 - Paramédicaux - Aide-Soignant\, 2025 - Paramédicaux - Auxiliaire de puériculture\, 2025 - Paramédicaux - Kiné\, Psychologues\, Nutritionnistes\, Diététiciens\, 2025 - Paramédicaux - Assistant de recherche clinique\, 2025 - Interne autre spécialité - 1 à 4\, et 2025 - Interne autre spécialité - 5 uniquement.AdhérerDéjà membre ? Connectez-vous ici
URL:https://sfar.org/evenement/formation-as-les-indispensables-2/
LOCATION:Siège SFAR\, 6 bis rue Jean Macé\, Paris\, 75011\, France
CATEGORIES:AS,Formations,Formations paramédicales
ATTACH;FMTTYPE=image/png:https://sfar.org/wp-content/uploads/2024/09/logo-ide-rea-300.png
END:VEVENT
BEGIN:VEVENT
DTSTART;VALUE=DATE:20251113
DTEND;VALUE=DATE:20251114
DTSTAMP:20260422T013809
CREATED:20250218T142828Z
LAST-MODIFIED:20251112T084933Z
UID:10000497-1762992000-1763078399@sfar.org
SUMMARY:Formation IDE : Ventilation
DESCRIPTION:  \n\n\n\nType inscriptions\nTarif\n\n\n\n\nMédecins\, internes\, FFI : membre SFAR à jour 2025\nGratuit\n\n\nInfirmiers (IADE & IDE) membre SFAR à jour 2025 avec Pack éducationnel\nGratuit\n\n\nEtudiants infirmiers\, membre SFAR  à jour 2025\nGratuit\n\n\nMédecin non-membre SFAR\n600 €*\n\n\nInterne non-membre SFAR\n150 €*\n\n\nParamédical non-membre SFAR\n300 €*\n\n\n\n\n  \nInscriptions Closes
URL:https://sfar.org/evenement/formation-ventilation/
LOCATION:Siège SFAR\, 6 bis rue Jean Macé\, Paris\, 75011\, France
CATEGORIES:Formations,Formations paramédicales,IDE
ATTACH;FMTTYPE=image/png:https://sfar.org/wp-content/uploads/2024/09/logo-ide-rea-300.png
END:VEVENT
BEGIN:VEVENT
DTSTART;VALUE=DATE:20251117
DTEND;VALUE=DATE:20251118
DTSTAMP:20260422T013809
CREATED:20250203T161531Z
LAST-MODIFIED:20251114T102219Z
UID:10000481-1763337600-1763423999@sfar.org
SUMMARY:RAC en SSPI
DESCRIPTION:  \n\n\n\n\nType inscriptions\nTarif\n\n\n\n\nMédecins\, internes\, FFI : membre SFAR à jour 2025\nGratuit\n\n\nInfirmiers (IADE & IDE) membre SFAR à jour 2025 avec Pack éducationnel\nGratuit\n\n\nEtudiants infirmiers\, membre SFAR  à jour 2025\nGratuit\n\n\nParamédical non-membre SFAR\n300 €*\n\n\nInterne non-membre SFAR\n150 €*\n\n\n\n\n  \nInscriptions Closes\n*frais de dossier en supplément : 15 €
URL:https://sfar.org/evenement/rac-en-sspi-2/
LOCATION:Siège SFAR\, 6 bis rue Jean Macé\, Paris\, 75011\, France
CATEGORIES:Formations,Formations paramédicales,IDE
ATTACH;FMTTYPE=image/png:https://sfar.org/wp-content/uploads/2024/09/logo-ide-rea-300.png
END:VEVENT
BEGIN:VEVENT
DTSTART;VALUE=DATE:20251118
DTEND;VALUE=DATE:20251119
DTSTAMP:20260422T013809
CREATED:20250203T161625Z
LAST-MODIFIED:20251113T153610Z
UID:10000482-1763424000-1763510399@sfar.org
SUMMARY:Pédiatrie en SSPI
DESCRIPTION:Type inscriptions\nTarif\n\n\n\n\nMédecins\, internes\, FFI : membre SFAR à jour 2025\nGratuit\n\n\nInfirmiers (IADE & IDE) membre SFAR à jour 2025 avec Pack éducationnel\nGratuit\n\n\nEtudiants infirmiers\, membre SFAR  à jour 2025\nGratuit\n\n\nParamédical non-membre SFAR\n300 €*\n\n\nInterne non-membre SFAR\n150 €*\n\n\n\n\n  \nINSCRIPTIONS NON-MEMBRES \nInscriptions closes – formation complète\n  \nINSCRIPTIONS MEMBRES\nInscriptions closes- formation complète\n*frais de dossier en supplément : 15 €
URL:https://sfar.org/evenement/pediatrie-en-sspi/
LOCATION:Siège SFAR\, 6 bis rue Jean Macé\, Paris\, 75011\, France
CATEGORIES:Formations,Formations paramédicales,IDE
ATTACH;FMTTYPE=image/png:https://sfar.org/wp-content/uploads/2024/09/logo-ide-rea-300.png
END:VEVENT
BEGIN:VEVENT
DTSTART;VALUE=DATE:20251125
DTEND;VALUE=DATE:20251126
DTSTAMP:20260422T013809
CREATED:20250331T131241Z
LAST-MODIFIED:20251124T101259Z
UID:10000507-1764028800-1764115199@sfar.org
SUMMARY:Comment je réduis l’impact environnemental de mon service de soins critiques ?
DESCRIPTION:Comment je réduis l’impact environnemental de mon service de soins critiques ?\n\nProgramme\n9h-9h30 : Accueil des participants \n\nPrésentation du programme de la journée\nTour d’inclusion\, présentation de chacun\n\n9h30-11h00 Introduction\,  Florence Lallemant :  \nPlan Health Faire Version « presto «                                                                          \n\nles enjeux autours de 4 modules (changement climatique\, gouvernance\, hôpital\, eau )\n\nTopo sur l’impact environnemental des soins critiques (Enora Atchade) \n11h00-12h00 Topo Éco-conception des soins ( Erwan D’aranda) \n  \n 12h-13H PAUSE DEJEUNER  \n13h00: Reprise  \nRemise en route et retour rapide sur la matinée. Échange-questions. \n13h30-16h00: Atelier  \n3 groupes \n\nGroupe 1 POV Patient\, famille\nGroupe 2 POV Soignant\nGroupe 3 POV Service\, structure\n\n1er temps: brain storming rapide 10 minutes \nAffichage sur tableau des grands thèmes \n\nMédicaments\nDispositifs médicamenteux\nAlimentation\nLinge\nTransport\nExamens complémentaires\nEau\nEnergie\nNettoyage\nQualité de l’air intérieure\nDéchets\nAchats\nRecherche clinique\n\n2eme temps : 45 minutes  \nGroupes de 3-4 max. \nCréation d’un protocole éco-conçu pour leur service sur le thème choisit \n3ème temps 1h30 \nPrésentation des protocoles des groupes puis débriefing avec l’ensemble des participants \n16h-16h30 Comment je m’organise ? ( Charlotte Martin)                                                                  \n16h30-17 h Tour de table  \n 17h Fin de formation \n  \n\n\n\n\nType inscriptions\nTarif\n\n\n\n\nMédecins\, internes\, FFI : membre SFAR à jour 2025\nGratuit\n\n\nInfirmiers (IADE & IDE) membre SFAR à jour 2025 avec Pack éducationnel\nGratuit\n\n\nEtudiants infirmiers\, membre SFAR  à jour 2025\nGratuit\n\n\nMédecin non-membre SFAR\n600 €*\n\n\nInterne non-membre SFAR\n150 €*\n\n\nParamédical non-membre SFAR\n300 €*\n\n\n\n\nINSCRIPTIONS CLOSES
URL:https://sfar.org/evenement/formation-dd/
LOCATION:Siège SFAR\, 6 bis rue Jean Macé\, Paris\, 75011\, France
CATEGORIES:Développement Durable,Formations
END:VEVENT
BEGIN:VEVENT
DTSTART;VALUE=DATE:20251127
DTEND;VALUE=DATE:20251128
DTSTAMP:20260422T013809
CREATED:20250218T142954Z
LAST-MODIFIED:20251031T155814Z
UID:10000498-1764201600-1764287999@sfar.org
SUMMARY:Formation cadres : être cadre en soins critiques et SSPI
DESCRIPTION:INSCRIPTIONS CLOSES
URL:https://sfar.org/evenement/formation-cadres/
LOCATION:PARIS
CATEGORIES:Formations,Formations paramédicales,IDE
ATTACH;FMTTYPE=image/png:https://sfar.org/wp-content/uploads/2024/09/logo-ide-rea-300.png
END:VEVENT
END:VCALENDAR