BEGIN:VCALENDAR
VERSION:2.0
PRODID:-//Société Française d’Anesthésie et de Réanimation - ECPv6.15.12.2//NONSGML v1.0//EN
CALSCALE:GREGORIAN
METHOD:PUBLISH
X-ORIGINAL-URL:https://sfar.org
X-WR-CALDESC:évènements pour Société Française d’Anesthésie et de Réanimation
REFRESH-INTERVAL;VALUE=DURATION:PT1H
X-Robots-Tag:noindex
X-PUBLISHED-TTL:PT1H
BEGIN:VTIMEZONE
TZID:Europe/Paris
BEGIN:DAYLIGHT
TZOFFSETFROM:+0100
TZOFFSETTO:+0200
TZNAME:CEST
DTSTART:20250330T010000
END:DAYLIGHT
BEGIN:STANDARD
TZOFFSETFROM:+0200
TZOFFSETTO:+0100
TZNAME:CET
DTSTART:20251026T010000
END:STANDARD
BEGIN:DAYLIGHT
TZOFFSETFROM:+0100
TZOFFSETTO:+0200
TZNAME:CEST
DTSTART:20260329T010000
END:DAYLIGHT
BEGIN:STANDARD
TZOFFSETFROM:+0200
TZOFFSETTO:+0100
TZNAME:CET
DTSTART:20261025T010000
END:STANDARD
BEGIN:DAYLIGHT
TZOFFSETFROM:+0100
TZOFFSETTO:+0200
TZNAME:CEST
DTSTART:20270328T010000
END:DAYLIGHT
BEGIN:STANDARD
TZOFFSETFROM:+0200
TZOFFSETTO:+0100
TZNAME:CET
DTSTART:20271031T010000
END:STANDARD
END:VTIMEZONE
BEGIN:VEVENT
DTSTART;VALUE=DATE:20260505
DTEND;VALUE=DATE:20260506
DTSTAMP:20260421T221834
CREATED:20260205T090136Z
LAST-MODIFIED:20260320T132934Z
UID:10000558-1777939200-1778025599@sfar.org
SUMMARY:Accès vasculaires superficiels échoguidés - Mai 2026
DESCRIPTION:  \n\n\n\n\nType inscriptions\nTarif\n\n\n\n\nMédecins\, internes\, FFI : membre SFAR à jour 2026\nGratuit\n\n\nInfirmiers (IADE & IDE) membre SFAR à jour 2026 avec Pack éducationnel\nGratuit\n\n\nEtudiants infirmiers\, membre SFAR  à jour 2026\nGratuit\n\n\nMédecin non-membre SFAR\n600 €*\n\n\nInterne non-membre SFAR\n150 €*\n\n\nParamédical non-membre SFAR\n300 €*\n\n\n\n\n\nInscriptions closes\n  \n  \nFiche pédagogique\nTélécharger \nVeuillez noter que votre inscription implique un engagement ferme à participer à l’événement. Nous comptons sur votre présence et apprécierions que vous confirmiez votre disponibilité dès que possible. Le fait de s’inscrire implique la fermeture d’une place\, et a une influence sur l’organisation et la planification comme pour les pauses ou les repas. \nLes inscriptions sont ouvertes dans la limite des places disponibles. \nMême si la formation n’est pas complète\, les inscriptions seront clôturées une semaine avant la tenue de la formation pour des raisons d’organisations logistiques internes.
URL:https://sfar.org/evenement/acces-vasculaires-superficiels-echoguides-mai-2026/
LOCATION:Siège SFAR\, 6 bis rue Jean Macé\, Paris\, 75011\, France
CATEGORIES:Formations,Formations paramédicales,IADE
ATTACH;FMTTYPE=image/png:https://sfar.org/wp-content/uploads/2024/09/logo-iade-300.png
END:VEVENT
BEGIN:VEVENT
DTSTART;VALUE=DATE:20260506
DTEND;VALUE=DATE:20260507
DTSTAMP:20260421T221834
CREATED:20260205T090456Z
LAST-MODIFIED:20260409T144705Z
UID:10000559-1778025600-1778111999@sfar.org
SUMMARY:Accès vasculaires superficiels échoguidés - Mai 2026
DESCRIPTION:  \n \n\n\n\n\nType inscriptions\nTarif\n\n\n\n\nMédecins\, internes\, FFI : membre SFAR à jour 2026\nGratuit\n\n\nInfirmiers (IADE & IDE) membre SFAR à jour 2026 avec Pack éducationnel\nGratuit\n\n\nEtudiants infirmiers\, membre SFAR  à jour 2026\nGratuit\n\n\nMédecin non-membre SFAR\n600 €*\n\n\nInterne non-membre SFAR\n150 €*\n\n\nParamédical non-membre SFAR\n300 €*\n\n\n\n\nInscriptions closes : \nVeuillez noter que votre inscription implique un engagement ferme à participer à l’événement. Nous comptons sur votre présence et apprécierions que vous confirmiez votre disponibilité dès que possible. Le fait de s’inscrire implique la fermeture d’une place\, et a une influence sur l’organisation et la planification comme pour les pauses ou les repas. \n*frais de dossier en supplément : 30 € \nLes inscriptions sont ouvertes dans la limite des places disponibles. \nMême si la formation n’est pas complète\, les inscriptions seront clôturées une semaine avant la tenue de la formation pour des raisons d’organisations logistiques internes.
URL:https://sfar.org/evenement/acces-vasculaires-superficiels-echoguides-mai-2026-2/
LOCATION:Siège SFAR\, 6 bis rue Jean Macé\, Paris\, 75011\, France
CATEGORIES:Formations,Formations paramédicales,IADE
ATTACH;FMTTYPE=image/png:https://sfar.org/wp-content/uploads/2024/09/logo-iade-300.png
END:VEVENT
END:VCALENDAR