BEGIN:VCALENDAR
VERSION:2.0
PRODID:-//Société Française d’Anesthésie et de Réanimation - ECPv6.15.12.2//NONSGML v1.0//EN
CALSCALE:GREGORIAN
METHOD:PUBLISH
X-WR-CALNAME:Société Française d’Anesthésie et de Réanimation
X-ORIGINAL-URL:https://sfar.org
X-WR-CALDESC:évènements pour Société Française d’Anesthésie et de Réanimation
REFRESH-INTERVAL;VALUE=DURATION:PT1H
X-Robots-Tag:noindex
X-PUBLISHED-TTL:PT1H
BEGIN:VTIMEZONE
TZID:Europe/Paris
BEGIN:DAYLIGHT
TZOFFSETFROM:+0100
TZOFFSETTO:+0200
TZNAME:CEST
DTSTART:20250330T010000
END:DAYLIGHT
BEGIN:STANDARD
TZOFFSETFROM:+0200
TZOFFSETTO:+0100
TZNAME:CET
DTSTART:20251026T010000
END:STANDARD
BEGIN:DAYLIGHT
TZOFFSETFROM:+0100
TZOFFSETTO:+0200
TZNAME:CEST
DTSTART:20260329T010000
END:DAYLIGHT
BEGIN:STANDARD
TZOFFSETFROM:+0200
TZOFFSETTO:+0100
TZNAME:CET
DTSTART:20261025T010000
END:STANDARD
BEGIN:DAYLIGHT
TZOFFSETFROM:+0100
TZOFFSETTO:+0200
TZNAME:CEST
DTSTART:20270328T010000
END:DAYLIGHT
BEGIN:STANDARD
TZOFFSETFROM:+0200
TZOFFSETTO:+0100
TZNAME:CET
DTSTART:20271031T010000
END:STANDARD
END:VTIMEZONE
BEGIN:VEVENT
DTSTART;TZID=Europe/Paris:20260203T170000
DTEND;TZID=Europe/Paris:20260203T180000
DTSTAMP:20260421T224149
CREATED:20260105T154056Z
LAST-MODIFIED:20260105T154056Z
UID:10000542-1770138000-1770141600@sfar.org
SUMMARY:ActuSFAR "Gestion des brèches dure mériennes en obstétriques"
DESCRIPTION:
URL:https://sfar.org/evenement/actusfar-gestion-des-breches-dure-meriennes-en-obstetriques/
LOCATION:On Line
CATEGORIES:ActuSFAR,SFAR TV
ATTACH;FMTTYPE=image/png:https://sfar.org/wp-content/uploads/2024/09/Logo-SFAR-TV-2.png
END:VEVENT
BEGIN:VEVENT
DTSTART;TZID=Europe/Paris:20260217T170000
DTEND;TZID=Europe/Paris:20260217T180000
DTSTAMP:20260421T224149
CREATED:20260213T132135Z
LAST-MODIFIED:20260213T132135Z
UID:10000564-1771347600-1771351200@sfar.org
SUMMARY:ActuSFAR Réanimation : Aspergillose en réanimation
DESCRIPTION:s
URL:https://sfar.org/evenement/actusfar-reanimation-aspergillose-en-reanimation/
LOCATION:On Line
CATEGORIES:ActuSFAR,SFAR TV
ATTACH;FMTTYPE=image/png:https://sfar.org/wp-content/uploads/2024/09/Logo-SFAR-TV-2.png
END:VEVENT
END:VCALENDAR