BEGIN:VCALENDAR
VERSION:2.0
PRODID:-//Société Française d’Anesthésie et de Réanimation - ECPv6.15.12.2//NONSGML v1.0//EN
CALSCALE:GREGORIAN
METHOD:PUBLISH
X-ORIGINAL-URL:https://sfar.org
X-WR-CALDESC:évènements pour Société Française d’Anesthésie et de Réanimation
REFRESH-INTERVAL;VALUE=DURATION:PT1H
X-Robots-Tag:noindex
X-PUBLISHED-TTL:PT1H
BEGIN:VTIMEZONE
TZID:Europe/Paris
BEGIN:DAYLIGHT
TZOFFSETFROM:+0100
TZOFFSETTO:+0200
TZNAME:CEST
DTSTART:20200329T010000
END:DAYLIGHT
BEGIN:STANDARD
TZOFFSETFROM:+0200
TZOFFSETTO:+0100
TZNAME:CET
DTSTART:20201025T010000
END:STANDARD
BEGIN:DAYLIGHT
TZOFFSETFROM:+0100
TZOFFSETTO:+0200
TZNAME:CEST
DTSTART:20210328T010000
END:DAYLIGHT
BEGIN:STANDARD
TZOFFSETFROM:+0200
TZOFFSETTO:+0100
TZNAME:CET
DTSTART:20211031T010000
END:STANDARD
BEGIN:DAYLIGHT
TZOFFSETFROM:+0100
TZOFFSETTO:+0200
TZNAME:CEST
DTSTART:20220327T010000
END:DAYLIGHT
BEGIN:STANDARD
TZOFFSETFROM:+0200
TZOFFSETTO:+0100
TZNAME:CET
DTSTART:20221030T010000
END:STANDARD
BEGIN:DAYLIGHT
TZOFFSETFROM:+0100
TZOFFSETTO:+0200
TZNAME:CEST
DTSTART:20230326T010000
END:DAYLIGHT
BEGIN:STANDARD
TZOFFSETFROM:+0200
TZOFFSETTO:+0100
TZNAME:CET
DTSTART:20231029T010000
END:STANDARD
BEGIN:DAYLIGHT
TZOFFSETFROM:+0100
TZOFFSETTO:+0200
TZNAME:CEST
DTSTART:20240331T010000
END:DAYLIGHT
BEGIN:STANDARD
TZOFFSETFROM:+0200
TZOFFSETTO:+0100
TZNAME:CET
DTSTART:20241027T010000
END:STANDARD
BEGIN:DAYLIGHT
TZOFFSETFROM:+0100
TZOFFSETTO:+0200
TZNAME:CEST
DTSTART:20250330T010000
END:DAYLIGHT
BEGIN:STANDARD
TZOFFSETFROM:+0200
TZOFFSETTO:+0100
TZNAME:CET
DTSTART:20251026T010000
END:STANDARD
BEGIN:DAYLIGHT
TZOFFSETFROM:+0100
TZOFFSETTO:+0200
TZNAME:CEST
DTSTART:20260329T010000
END:DAYLIGHT
BEGIN:STANDARD
TZOFFSETFROM:+0200
TZOFFSETTO:+0100
TZNAME:CET
DTSTART:20261025T010000
END:STANDARD
END:VTIMEZONE
BEGIN:VEVENT
DTSTART;VALUE=DATE:20250327
DTEND;VALUE=DATE:20250328
DTSTAMP:20260422T125031
CREATED:20250217T095443Z
LAST-MODIFIED:20250219T155450Z
UID:10000491-1743033600-1743119999@sfar.org
SUMMARY:Formation accès vasculaires superficiels échoguidés
DESCRIPTION:INSCRIPTIONS NON-MEMBRES\nInscription non-membre \nINSCRIPTIONS MEMBRES\nCe contenu est réservé aux membres du niveau 2025 - Médecins\, 2025 - Médecins - Interne 1 à 4\, 2025 - Médecins - Interne 5\, 2025 - Médecins - FFI (DFMS)\, 2025 - Médecins - Retraité\, 2025 - Paramédicaux - IADE\, 2025 - Paramédicaux - Etudiant IADE\, 2025 - Paramédicaux - IDE\, 2025 - Paramédicaux - Etudiant IDE\, 2025 - Paramédicaux - Aide-Soignant\, 2025 - Paramédicaux - Auxiliaire de puériculture\, 2025 - Paramédicaux - Kiné\, Psychologues\, Nutritionnistes\, Diététiciens\, 2025 - Paramédicaux - Assistant de recherche clinique\, 2025 - Interne autre spécialité - 1 à 4\, et 2025 - Interne autre spécialité - 5 uniquement.AdhérerDéjà membre ? Connectez-vous ici
URL:https://sfar.org/evenement/formation-acces-vasculaires-superficiels-echoguides-4/
LOCATION:Hôpital Beaujon – Paris\, 100 boulevard du Général Leclerc\, Clichy\, 92110\, France
CATEGORIES:Formations,Formations paramédicales,IADE
ATTACH;FMTTYPE=image/png:https://sfar.org/wp-content/uploads/2024/09/logo-iade-300.png
END:VEVENT
BEGIN:VEVENT
DTSTART;VALUE=DATE:20250325
DTEND;VALUE=DATE:20250326
DTSTAMP:20260422T125031
CREATED:20250114T080415Z
LAST-MODIFIED:20250317T082722Z
UID:10000463-1742860800-1742947199@sfar.org
SUMMARY:Journée SOS AR en détresse - Anesthésie - 1ère partie
DESCRIPTION:Inscriptions closes\nFormation complète
URL:https://sfar.org/evenement/journee-sos-ar-en-detresse-anesthesie-1ere-partie/
LOCATION:Hôpital Beaujon – Paris\, 100 boulevard du Général Leclerc\, Clichy\, 92110\, France
CATEGORIES:Formations,Formations médicales,SFAR JEUNES
ATTACH;FMTTYPE=image/png:https://sfar.org/wp-content/uploads/2021/08/SFAR-Jeunes.png
END:VEVENT
BEGIN:VEVENT
DTSTART;VALUE=DATE:20250207
DTEND;VALUE=DATE:20250208
DTSTAMP:20260422T125031
CREATED:20241029T125836Z
LAST-MODIFIED:20250206T105514Z
UID:10000447-1738886400-1738972799@sfar.org
SUMMARY:IADE 6 "accès vasculaires superficiels échoguidés" - Paris
DESCRIPTION:Inscription non membre\n\n\n\n\n\nType inscriptions\nTarif\n\n\n\n\nMédecins\, internes\, FFI : membre SFAR à jour 2025\nGratuit\n\n\nInfirmiers (IADE & IDE) membre SFAR à jour 2025 avec Pack éducationnel\nGratuit\n\n\nEtudiants infirmiers\, membre SFAR  à jour 2025\nGratuit\n\n\nMédecin non-membre SFAR\n600 €*\n\n\nInterne non-membre SFAR\n150 €*\n\n\nParamédical non-membre SFAR\n300 €*\n\n\n\n\nINSCRIPTIONS CLOSES\n  \nFiche pédagogique\nTélécharger \nVeuillez noter que votre inscription implique un engagement ferme à participer à l’événement. Nous comptons sur votre présence et apprécierions que vous confirmiez votre disponibilité dès que possible. Le fait de s’inscrire implique la fermeture d’une place\, et a une influence sur l’organisation et la planification comme pour les pauses ou les repas.
URL:https://sfar.org/evenement/iade-6-acces-vaculaires-superficiels-echoguides-paris/
LOCATION:Hôpital Beaujon – Paris\, 100 boulevard du Général Leclerc\, Clichy\, 92110\, France
CATEGORIES:Formations,IADE
ATTACH;FMTTYPE=image/png:https://sfar.org/wp-content/uploads/2024/09/logo-iade-300.png
END:VEVENT
BEGIN:VEVENT
DTSTART;TZID=Europe/Paris:20241205T090000
DTEND;TZID=Europe/Paris:20241205T170000
DTSTAMP:20260422T125031
CREATED:20240917T141139Z
LAST-MODIFIED:20241129T125025Z
UID:10000300-1733389200-1733418000@sfar.org
SUMMARY:IADE 5 "accès vasculaires superficiels échoguidés" - 05 Décembre 2024
DESCRIPTION:Type inscriptions\nTarif\n\n\n\n\nMédecins\, internes\, FFI : membre SFAR à jour 2024\nGratuit\n\n\nInfirmiers (IADE & IDE) membre SFAR à jour 2024 avec Pack éducationnel\nGratuit\n\n\nEtudiants infirmiers\, membre SFAR  à jour 2024\nGratuit\n\n\nMédecin non-membre SFAR\n600 €*\n\n\nInterne non-membre SFAR\n150 €*\n\n\nParamédical non-membre SFAR\n300 €*\n\n\n\n\n\n  \n  \n\nInscription membres CLOSE\n  \nVeuillez noter que votre inscription implique un engagement ferme à participer à l’événement. Nous comptons sur votre présence et apprécierions que vous confirmiez votre disponibilité dès que possible. Le fait de s’inscrire implique la fermeture d’une place\, et a une influence sur l’organisation et la planification comme pour les pauses ou les repas.
URL:https://sfar.org/evenement/iade-5-acces-vasculaires-superficiels-echoguides-05-decembre-2024/
LOCATION:Hôpital Beaujon – Paris\, 100 boulevard du Général Leclerc\, Clichy\, 92110\, France
CATEGORIES:Formations paramédicales,IADE
ATTACH;FMTTYPE=image/png:https://sfar.org/wp-content/uploads/2024/09/logo-iade-300.png
END:VEVENT
BEGIN:VEVENT
DTSTART;TZID=Europe/Paris:20241129T090000
DTEND;TZID=Europe/Paris:20241129T170000
DTSTAMP:20260422T125031
CREATED:20240917T142532Z
LAST-MODIFIED:20241126T145410Z
UID:10000433-1732870800-1732899600@sfar.org
SUMMARY:Urgences en réanimation
DESCRIPTION:  \nInscription non membre\n\n\n\n\n\nType inscriptions\nTarif\n\n\n\n\nMédecins\, internes\, FFI : membre SFAR à jour 2024\nGratuit\n\n\nInfirmiers (IADE & IDE) membre SFAR à jour 2024 avec Pack éducationnel\nGratuit\n\n\nEtudiants infirmiers\, membre SFAR  à jour 2024\nGratuit\n\n\nMédecin non-membre SFAR\n600 €*\n\n\nInterne non-membre SFAR\n150 €*\n\n\nParamédical non-membre SFAR\n300 €*\n\n\n\n\n  \nINSCRIPTIONS CLOSES \n  \nVeuillez noter que votre inscription implique un engagement ferme à participer à l’événement. Nous comptons sur votre présence et apprécierions que vous confirmiez votre disponibilité dès que possible. Le fait de s’inscrire implique la fermeture d’une place\, et a une influence sur l’organisation et la planification comme pour les pauses ou les repas.
URL:https://sfar.org/evenement/sspi-urgences-en-reanimation-29-novembre-2024/
LOCATION:Hôpital Beaujon – Paris\, 100 boulevard du Général Leclerc\, Clichy\, 92110\, France
CATEGORIES:AS,Formations paramédicales,IDE
ATTACH;FMTTYPE=image/png:https://sfar.org/wp-content/uploads/2024/08/comite-IDE-REA.png
END:VEVENT
BEGIN:VEVENT
DTSTART;TZID=Europe/Paris:20240124T100000
DTEND;TZID=Europe/Paris:20240124T160000
DTSTAMP:20260422T125031
CREATED:20231025T085222Z
LAST-MODIFIED:20231117T145237Z
UID:10000425-1706090400-1706112000@sfar.org
SUMMARY:Journée Ethique
DESCRIPTION:Inscriptions non Membres\nA VENIR   \nInscriptions membres\nA VENIR (15/12/2023)
URL:https://sfar.org/evenement/journee-ethique/
LOCATION:Hôpital Beaujon – Paris\, 100 boulevard du Général Leclerc\, Clichy\, 92110\, France
CATEGORIES:Formations,SFAR JEUNES
ATTACH;FMTTYPE=image/png:https://sfar.org/wp-content/uploads/2021/08/SFAR-Jeunes.png
END:VEVENT
BEGIN:VEVENT
DTSTART;VALUE=DATE:20231212
DTEND;VALUE=DATE:20231213
DTSTAMP:20260422T125031
CREATED:20230602T065723Z
LAST-MODIFIED:20231025T140830Z
UID:10000417-1702339200-1702425599@sfar.org
SUMMARY:Formation accès vasculaires superficiels échoguidés
DESCRIPTION:Fiche pédagogique\nTélécharger \nFormation complète
URL:https://sfar.org/evenement/formation-acces-vasculaires-superficiels-echoguides-3/
LOCATION:Hôpital Beaujon – Paris\, 100 boulevard du Général Leclerc\, Clichy\, 92110\, France
CATEGORIES:Formations,IADE
ATTACH;FMTTYPE=image/png:https://sfar.org/wp-content/uploads/2022/02/LogoSFARIADE-HD.png
END:VEVENT
BEGIN:VEVENT
DTSTART;VALUE=DATE:20231115
DTEND;VALUE=DATE:20231116
DTSTAMP:20260422T125031
CREATED:20230620T135444Z
LAST-MODIFIED:20231113T140830Z
UID:10000419-1700006400-1700092799@sfar.org
SUMMARY:Journée Obstétrique - SFAR Jeunes
DESCRIPTION:Inscriptions Membres \nComplet
URL:https://sfar.org/evenement/journee-obstetrique-sfar-jeunes/
LOCATION:Hôpital Beaujon – Paris\, 100 boulevard du Général Leclerc\, Clichy\, 92110\, France
CATEGORIES:Formations,SFAR JEUNES
ATTACH;FMTTYPE=image/png:https://sfar.org/wp-content/uploads/2021/08/SFAR-Jeunes.png
END:VEVENT
BEGIN:VEVENT
DTSTART;VALUE=DATE:20231010
DTEND;VALUE=DATE:20231011
DTSTAMP:20260422T125031
CREATED:20230602T065610Z
LAST-MODIFIED:20230929T083125Z
UID:10000416-1696896000-1696982399@sfar.org
SUMMARY:Formation accès vasculaires superficiels échoguidés
DESCRIPTION:Fiche pédagogique\nTélécharger \nCOMPLET
URL:https://sfar.org/evenement/formation-acces-vasculaires-superficiels-echoguides-2/
LOCATION:Hôpital Beaujon – Paris\, 100 boulevard du Général Leclerc\, Clichy\, 92110\, France
CATEGORIES:Formations,IADE
ATTACH;FMTTYPE=image/png:https://sfar.org/wp-content/uploads/2022/03/logo-iade-300.png
END:VEVENT
BEGIN:VEVENT
DTSTART;VALUE=DATE:20230620
DTEND;VALUE=DATE:20230621
DTSTAMP:20260422T125031
CREATED:20230309T110244Z
LAST-MODIFIED:20230929T083039Z
UID:10000407-1687219200-1687305599@sfar.org
SUMMARY:Formation accès vasculaires superficiels échoguidés
DESCRIPTION:Fiche pédagogique\nTélécharger \nInscriptions closes\n  \n 
URL:https://sfar.org/evenement/formation-acces-vasculaires-superficiels-echoguides/
LOCATION:Hôpital Beaujon – Paris\, 100 boulevard du Général Leclerc\, Clichy\, 92110\, France
CATEGORIES:Formations,IADE
ATTACH;FMTTYPE=image/png:https://sfar.org/wp-content/uploads/2022/03/logo-iade-300.png
END:VEVENT
BEGIN:VEVENT
DTSTART;VALUE=DATE:20230403
DTEND;VALUE=DATE:20230404
DTSTAMP:20260422T125031
CREATED:20230124T144205Z
LAST-MODIFIED:20231005T130250Z
UID:10000268-1680480000-1680566399@sfar.org
SUMMARY:Ateliers de ventilation mécanique
DESCRIPTION:Comment :  \nEn « distanciel » depuis Paris la SFAR\, pour les cours et la simulation\, mais relayé en présentiel dans 5 villes avec des enseignants locaux » \n  \nA qui est destiné cette Atelier de Ventilation mécanique : Membres SFAR uniquement \n\nLes Internes en fin de cursus souhaitant une approche avancée de la ventilation mécanique\nLes assistants et les PH souhaitant suivre un cours de remise à niveau complet et/ou approfondir des aspects spécifiques.\n\n  \nPrincipales raisons pour participer \n\nComprendre les principes fondamentaux de la ventilation mécanique permettant d’appliquer en toute sécurité la ventilation mécanique dans sa pratique clinique\nAméliorer votre pratique quotidienne et acquérir de nouvelles perspectives en matière de développement et de recherche\nParticipez à un cours hautement interactif\, mêlant la théorie à des discussions de cas cliniques et à l’interprétation des « courbes » du ventilateur.\n\n  \nObjectifs \n\nRéviser les principes fondamentaux de la mécanique respiratoire\nComprendre les principes de base de l’évaluation de la mécanique pulmonaire.\nConsolider les connaissances sur la prise en charge des patients ventilés\nComprendre les manœuvres de recrutement\nComprendre l’ Asynchronie»\nComprendre et appliquer les principes de la ventilation mécanique dans le cas du SDRA\, de la BPCO\, des patients asthmatiques et de l’obésité.\n\n  \n  \nProgramme Atelier \n  \nVilles (référents) : Bordeaux (Hadrien Rozé)\, Dijon (Bélaid  Bouhemad)\, Strasbourg (Olivier Collanges)\, Toulouse (Fanny Bounes)\, Rouen (Emmanuel Besnier) \n  \nMatin : 9h-12h30 \n\nAccueil 9h-9h15\nMécanique ventilatoire au quotidien (Bélaid Bouhemad) 9h15-10h (30’+15’)\nRéglage de la PEEP (Jean-Michel Constantin) 10h-10h45 (30’+15’)\nPause 10h45-11H\nAsynchronie (Bélaid Bouhemad) 11h-11h45 (30’+15’)\nVNI (Jean-Michel Constantin) 11h45-12h30 (30’+15’)\n\n  \nAprès Midi : 14h-16h30 \n\nPetit lexique de Ventilation mécanique QCM-Cas cliniques (Bélaid Bouhemad) 14h-14h45\nPause 14h45-15h\nSéance de Simulation\, (Hadrien Rozé) : Exemples pratiques d’interprétation des courbes du ventilateur 15h-16h30\n\n  \nFiche pédagogique\n\nfiche pédagogique – Ateliers de Ventilation mécanique de la SFAR  \n \n  \nINSCRIPTIONS CLOSES\n 
URL:https://sfar.org/evenement/ateliers-de-ventilation-mecanique/
LOCATION:Hôpital Beaujon – Paris\, 100 boulevard du Général Leclerc\, Clichy\, 92110\, France
ATTACH;FMTTYPE=image/png:https://sfar.org/wp-content/uploads/2021/03/comite-rea-2.png
END:VEVENT
BEGIN:VEVENT
DTSTART;VALUE=DATE:20230316
DTEND;VALUE=DATE:20230317
DTSTAMP:20260422T125031
CREATED:20221222T153454Z
LAST-MODIFIED:20230929T082956Z
UID:10000261-1678924800-1679011199@sfar.org
SUMMARY:Formation IADE - Pose de voie veineuse périphérique sous échographie
DESCRIPTION:Programme \n9h00-9h15 Accueil des participants \n9h15-9h45 Présentation du programme : objectifs\, contenus et modalités \n9h45-10h15 \n– Accès vasculaire difficile : évaluation\, intérêt du guidage avec échographe\n– Cadre règlementaire : référentiel\, DPC\, recommandations \n10h15-10h45 \n– Vascularisation du membre supérieur\n– Les différents accès vasculaires \n10h45-11h00 Pause \n11h00-11h30 Imagerie ultrasonographique – grands principes et réglages de l’échographe \n11h30–12h00 Technique de visualisation\, de repérage et de ponction sous échographie \n11h30-12h15 Ergonomie\, asepsie et traitement du matériel \n12h15-13h30 DEJEUNER \n13h30-14h30 \nAtelier : Réglage de l’échographe et repérage anatomique sur vivant des\nvaisseaux et structures anatomiques annexes \nAtelier : asepsie\, ergonomie\, traitement des sondes d’échographie \n14h30-16h30 Atelier ponction sous échographie : sur gel blue phantom \n16h30-16H45 \nEchanges\nQuestionnaire d’évaluation de la formation\nClôture de la journée de formation \nFiche pédagogique\nTélécharger \n \nInscriptions Closes
URL:https://sfar.org/evenement/formation-iade-pose-de-voie-veineuse-peripherique-sous-echographie/
LOCATION:Hôpital Beaujon – Paris\, 100 boulevard du Général Leclerc\, Clichy\, 92110\, France
CATEGORIES:Formations,IADE
ATTACH;FMTTYPE=image/png:https://sfar.org/wp-content/uploads/2022/03/logo-iade-300.png
END:VEVENT
BEGIN:VEVENT
DTSTART;VALUE=DATE:20230123
DTEND;VALUE=DATE:20230124
DTSTAMP:20260422T125031
CREATED:20221006T120541Z
LAST-MODIFIED:20230929T091603Z
UID:10000385-1674432000-1674518399@sfar.org
SUMMARY:Formation CVP-ST : Situation difficile : je communique comment ?
DESCRIPTION:Fiche Pédagogique \n\nTélécharger \nInscriptions réservée aux membres à jour de leur cotisation 2023 \n  \nCe contenu est réservé aux membres du niveau  uniquement.AdhérerDéjà membre ? Connectez-vous ici
URL:https://sfar.org/evenement/formation-cvp-st-comment-je-communique-en-situation-difficile/
LOCATION:Hôpital Beaujon – Paris\, 100 boulevard du Général Leclerc\, Clichy\, 92110\, France
CATEGORIES:Formations
ATTACH;FMTTYPE=image/png:https://sfar.org/wp-content/uploads/2022/10/logo-comite-vie-professionnelle-1200x1200-1.png
END:VEVENT
BEGIN:VEVENT
DTSTART;TZID=Europe/Paris:20221213T093000
DTEND;TZID=Europe/Paris:20221213T170000
DTSTAMP:20260422T125031
CREATED:20221011T114939Z
LAST-MODIFIED:20230112T152721Z
UID:10000386-1670923800-1670950800@sfar.org
SUMMARY:SFAR Jeunes - Journée Infectio
DESCRIPTION:  \nRéservez aux membres à jour 2022 de la SFAR \n  \nProgramme\n8h30-9h00: accueil & petit-déjeuner \n\n9h00-9h45: Interprétation Interactive d’antibiogrammes (Dr Aurore Bousquet & Dr Larréché)\n9h45-10h30: Nouveaux antibiotiques: pourquoi? pour qui? (Dr Mickael Thy)\n\n11h pause-café \n\n11h30-12h15: COVID & Infections fongiques en réanimation (Dr Alexandra Serris) \n12h15-13h: Les 5 articles Incontournables en infectiologie (Pr Marc Leone)\n\n13h-14h pause déjeuner \n\n14h-14h45: Mon patient a une PCR positive\, est-ce que je l’endors? (Dr Marc Garnier)\n14h45-15h30: Antibioprophylaxie et Infections péri-opératoires\, ce que je ne sais pas déjà (Pr Emmanuel Weiss)\n\n15h30 pause-café \n\n16h-16h45: Ces Infections venues d’ailleurs : dengue\, West Nile\, parasitoses (Dr Mickael Thy)\n16h45-17h30: Pharmacocinétique des antibiotiques en réanimation: dialyse\, patient obèse ou dénutri (Pr Claire Roger)\n\n\nInscriptions\nTélécharger Programme Pédagogique \nINSCRIPTIONS CLOSES
URL:https://sfar.org/evenement/sfar-jeunes-journee-infectio/
LOCATION:Hôpital Beaujon – Paris\, 100 boulevard du Général Leclerc\, Clichy\, 92110\, France
CATEGORIES:SFAR JEUNES
ATTACH;FMTTYPE=image/png:https://sfar.org/wp-content/uploads/2022/10/Affiche2.png
END:VEVENT
BEGIN:VEVENT
DTSTART;VALUE=DATE:20221128
DTEND;VALUE=DATE:20221130
DTSTAMP:20260422T125031
CREATED:20221003T085317Z
LAST-MODIFIED:20221005T102617Z
UID:10000383-1669593600-1669766399@sfar.org
SUMMARY:Formation aide-soignant.e en réanimation / unité de soins intensifs polyvalents
DESCRIPTION:  \nInscriptions
URL:https://sfar.org/evenement/formation-aide-soignant-e-en-reanimation-unite-de-soins-intensifs-polyvalents/
LOCATION:Hôpital Beaujon – Paris\, 100 boulevard du Général Leclerc\, Clichy\, 92110\, France
CATEGORIES:Formations,IDE
ATTACH;FMTTYPE=image/png:https://sfar.org/wp-content/uploads/2020/11/logo-ide-rea-1.png
END:VEVENT
BEGIN:VEVENT
DTSTART;TZID=Europe/Paris:20221118T140000
DTEND;TZID=Europe/Paris:20221118T170000
DTSTAMP:20260422T125031
CREATED:20221114T085901Z
LAST-MODIFIED:20221114T090544Z
UID:10000255-1668780000-1668790800@sfar.org
SUMMARY:47ème réunion scientifique du Club de l'Histoire de l'Anesthésie et de la Réanimation
DESCRIPTION:  \nProgramme \n14 h 00 : De l’inconnue de la Seine à Ressusci Anne.\n \nJean-Pierre Haberer (Paris) \n 14 h 30 : Oxygène sous-cutané\, une histoire franco-belge.\n \nBruno De Turck (Gand Belgique) \n15h00 : Les préconisations antidouleurs ou anesthésiques dans\nl’histoire de la médecine égyptienne.\n \nJean Richard-Alain (Paris) \n16h00 : La face cachée du chloroforme : du mythe à la réalité.\n \nAtanas Sabahov (Paris) \n16h30 : Premières anesthésies en France 175 ème anniversaire\n(1847-2022). \nJean-Bernard Cazalaà (Paris) \n\nLien de la Conférence: \n47e réunion scientifique du CHAR \nID de réunion : 467 181 3043\nCode secret : 415320
URL:https://sfar.org/evenement/47eme-reunion-scientifique-du-club-de-lhistoire-de-lanesthesie-et-de-la-reanimation/
LOCATION:Hôpital Beaujon – Paris\, 100 boulevard du Général Leclerc\, Clichy\, 92110\, France
CATEGORIES:Conférence
ATTACH;FMTTYPE=image/jpeg:https://sfar.org/wp-content/uploads/2022/11/CHAR.jpeg
END:VEVENT
BEGIN:VEVENT
DTSTART;VALUE=DATE:20220601
DTEND;VALUE=DATE:20220602
DTSTAMP:20260422T125031
CREATED:20220405T150547Z
LAST-MODIFIED:20220530T083021Z
UID:10000235-1654041600-1654127999@sfar.org
SUMMARY:Formation Développement Durable au Bloc Opératoire : Principes Théoriques - Application Pratique
DESCRIPTION:Complet
URL:https://sfar.org/evenement/formation-developpement-durable-au-bloc-operatoire-principes-theoriques-application-pratique/
LOCATION:Hôpital Beaujon – Paris\, 100 boulevard du Général Leclerc\, Clichy\, 92110\, France
CATEGORIES:Développement Durable,Formations
ATTACH;FMTTYPE=image/png:https://sfar.org/wp-content/uploads/2022/04/SFAR-DD.png
END:VEVENT
BEGIN:VEVENT
DTSTART;VALUE=DATE:20220329
DTEND;VALUE=DATE:20220330
DTSTAMP:20260422T125031
CREATED:20220222T155940Z
LAST-MODIFIED:20220222T160201Z
UID:10000364-1648512000-1648598399@sfar.org
SUMMARY:Master class distancielle SfarCothova : Médecine périopératoire en chirurgie cardiothoracique et vasculaire
DESCRIPTION:Modération : Jean-Luc Fellahi (Lyon) – Sophie Provenchère (Paris)\nProgramme\n8h30 : Accueil des participants \n9h00 : Introduction de la journée : Jean-Luc Fellahi (Lyon) – Sophie Provenchère (Paris) \n9h10 : RFE SFAR/SFCTCV 2021 Réhabilitation améliorée après chirurgie cardiaque adulte : les points à retenir : Hélène Charbonneau (Toulouse)   \n9h40 : Fragilité : dépistage et gestion périopératoire : Sophie Provenchère (Paris) \n10h10 : Optimisation périopératoire des bétabloquants chez les patients chroniquement traités : Dan Longrois (Paris) \n10h40 : Pause \n11h00 : Prévention et traitement de la FAPO : Jean-Luc Fellahi (Lyon) \n11h30 : Prévention et gestion du délire postopératoire : Franck Verdonk (Paris) \n12h00 : Place de l’intelligence artificielle dans le contrôle tensionnel périopératoire : Matthias Jacquet-Lagrèze (Lyon) \n12h30 : Pause déjeuner \n14h00 : Contrôle glycémique périopératoire : quoi de neuf ? Guillaume Besch (Besançon) \n14h30 : Quelle place pour les AINS en chirurgie cardiothoracique ? : Osama Abou Arab (Amiens) \n15h00 : Optimiser l’hémodynamique : fluides ou vasopresseurs ? (Bernard Cholley) \n15h30 : Actualités sur la TIH : Anne Godier (Paris) \n16h00 : Pause \n16h20 : L’ALR en chirurgie thoracique en 2022 : Aude Charvet (Marseille)           \n16h40 : La RAAC en chirurgie oncothoracique : retour sur une success story : Renaud Grima et Isabelle Pavlakovic (Lyon) \n17h10 : Synthèse de la journée : Jean-Luc Fellahi (Lyon) – Sophie Provenchère (Paris)
URL:https://sfar.org/evenement/master-class-sfarcothova-medecine-perioperatoire-en-chirurgie-cardiothoracique-et-vasculaire/
LOCATION:Hôpital Beaujon – Paris\, 100 boulevard du Général Leclerc\, Clichy\, 92110\, France
ATTACH;FMTTYPE=image/png:https://sfar.org/wp-content/uploads/2022/02/logo-arcothova-texte.png
END:VEVENT
BEGIN:VEVENT
DTSTART;VALUE=DATE:20220316
DTEND;VALUE=DATE:20220318
DTSTAMP:20260422T125031
CREATED:20211025T092119Z
LAST-MODIFIED:20211209T161735Z
UID:10000337-1647388800-1647561599@sfar.org
SUMMARY:Les grands principes en SSPI
DESCRIPTION:Public : IDE en SSPI/IDE avec projet d’évoluer en SSPI \nFormation présentielle ouverte à tous les abonnés Paramédicaux de la SFAR à jour de leur cotisation « Pack éducationnel ». \nInscription obligatoire. \nPour les non adhérent(e)s SFAR : 200 Euros. \nInscriptions\n 
URL:https://sfar.org/evenement/les-grands-principes-en-sspi-2/
LOCATION:Hôpital Beaujon – Paris\, 100 boulevard du Général Leclerc\, Clichy\, 92110\, France
CATEGORIES:IADE,IDE
END:VEVENT
BEGIN:VEVENT
DTSTART;TZID=Europe/Paris:20211208T080000
DTEND;TZID=Europe/Paris:20211209T170000
DTSTAMP:20260422T125031
CREATED:20210909T150021Z
LAST-MODIFIED:20211001T101433Z
UID:10000324-1638950400-1639069200@sfar.org
SUMMARY:Les grands principes en SSPI
DESCRIPTION:Public : IDE en SSPI/IDE avec projet d’évoluer en SSPI \nFormation présentielle ouverte à tous les abonnés Paramédicaux de la SFAR à jour de leur cotisation « Pack éducationnel ». \nInscription obligatoire. \nPour les non adhérent(e)s SFAR : 200 Euros. \n  \nInscriptions\n  \n 
URL:https://sfar.org/evenement/les-grands-principes-en-sspi/
LOCATION:Hôpital Beaujon – Paris\, 100 boulevard du Général Leclerc\, Clichy\, 92110\, France
CATEGORIES:IADE,IDE
END:VEVENT
BEGIN:VEVENT
DTSTART;TZID=Europe/Paris:20211119T140000
DTEND;TZID=Europe/Paris:20211119T170000
DTSTAMP:20260422T125031
CREATED:20211115T165038Z
LAST-MODIFIED:20211115T165430Z
UID:10000344-1637330400-1637341200@sfar.org
SUMMARY:La 45e réunion scientifique du CHAR
DESCRIPTION:La 45e réunion scientifique du CHAR aura lieu le\nvendredi 19 novembre de 14h à 17h\n74 rue Raynouard 75016 Paris\nau siège de la SFAR (2e étage)\nPrésidents de séance\nJean-Bernard Cazalaà (Paris)\, Dominique Simon (Corbeil). \n14 h 00 : John Snow (1813-1858)\, premier médecin anesthésiste mondial.\nAtanas Sabahov (Paris) \n14 h 30 : La neuroleptanalgésie : histoire et avenir.\nFrédérique Servin (Courtenay) \n15h30 : Apports de la deuxième guerre mondiale pour la transfusion sanguine.\nYvonnick Blanloeil (Arcachon) \n16h00 : Histoire des foudroyés suivis par le Centre national de Toulouse.\nChristian Virenque (Toulouse) \n17h00 : Fin de réunion \nAccès libre en présentiel. En distanciel cette réunion sera diffusée sur le réseau Zoom du CHAR. Elle est limitée aux 99 premiers participants. Les consignes pour rejoindre la réunion vous seront envoyées ultérieurement. \nUn enregistrement des conférences sera fait et diffusé par la suite sur le site du CHAR : www.char-fr.net\nCordialement\nL’équipe du CHAR
URL:https://sfar.org/evenement/la-45e-reunion-scientifique-du-char/
LOCATION:Hôpital Beaujon – Paris\, 100 boulevard du Général Leclerc\, Clichy\, 92110\, France
ATTACH;FMTTYPE=image/jpeg:https://sfar.org/wp-content/uploads/2021/11/banniere_CHAR-2.jpg
END:VEVENT
END:VCALENDAR