BEGIN:VCALENDAR
VERSION:2.0
PRODID:-//Société Française d’Anesthésie et de Réanimation - ECPv6.15.12.2//NONSGML v1.0//EN
CALSCALE:GREGORIAN
METHOD:PUBLISH
X-WR-CALNAME:Société Française d’Anesthésie et de Réanimation
X-ORIGINAL-URL:https://sfar.org
X-WR-CALDESC:évènements pour Société Française d’Anesthésie et de Réanimation
REFRESH-INTERVAL;VALUE=DURATION:PT1H
X-Robots-Tag:noindex
X-PUBLISHED-TTL:PT1H
BEGIN:VTIMEZONE
TZID:Europe/Paris
BEGIN:DAYLIGHT
TZOFFSETFROM:+0100
TZOFFSETTO:+0200
TZNAME:CEST
DTSTART:20200329T010000
END:DAYLIGHT
BEGIN:STANDARD
TZOFFSETFROM:+0200
TZOFFSETTO:+0100
TZNAME:CET
DTSTART:20201025T010000
END:STANDARD
BEGIN:DAYLIGHT
TZOFFSETFROM:+0100
TZOFFSETTO:+0200
TZNAME:CEST
DTSTART:20210328T010000
END:DAYLIGHT
BEGIN:STANDARD
TZOFFSETFROM:+0200
TZOFFSETTO:+0100
TZNAME:CET
DTSTART:20211031T010000
END:STANDARD
BEGIN:DAYLIGHT
TZOFFSETFROM:+0100
TZOFFSETTO:+0200
TZNAME:CEST
DTSTART:20220327T010000
END:DAYLIGHT
BEGIN:STANDARD
TZOFFSETFROM:+0200
TZOFFSETTO:+0100
TZNAME:CET
DTSTART:20221030T010000
END:STANDARD
BEGIN:DAYLIGHT
TZOFFSETFROM:+0100
TZOFFSETTO:+0200
TZNAME:CEST
DTSTART:20230326T010000
END:DAYLIGHT
BEGIN:STANDARD
TZOFFSETFROM:+0200
TZOFFSETTO:+0100
TZNAME:CET
DTSTART:20231029T010000
END:STANDARD
BEGIN:DAYLIGHT
TZOFFSETFROM:+0100
TZOFFSETTO:+0200
TZNAME:CEST
DTSTART:20240331T010000
END:DAYLIGHT
BEGIN:STANDARD
TZOFFSETFROM:+0200
TZOFFSETTO:+0100
TZNAME:CET
DTSTART:20241027T010000
END:STANDARD
END:VTIMEZONE
BEGIN:VEVENT
DTSTART;VALUE=DATE:20230123
DTEND;VALUE=DATE:20230124
DTSTAMP:20260424T125451
CREATED:20221006T120541Z
LAST-MODIFIED:20230929T091603Z
UID:10000385-1674432000-1674518399@sfar.org
SUMMARY:Formation CVP-ST : Situation difficile : je communique comment ?
DESCRIPTION:Fiche Pédagogique \n\nTélécharger \nInscriptions réservée aux membres à jour de leur cotisation 2023 \n  \nCe contenu est réservé aux membres du niveau  uniquement.AdhérerDéjà membre ? Connectez-vous ici
URL:https://sfar.org/evenement/formation-cvp-st-comment-je-communique-en-situation-difficile/
LOCATION:Hôpital Beaujon – Paris\, 100 boulevard du Général Leclerc\, Clichy\, 92110\, France
CATEGORIES:Formations
ATTACH;FMTTYPE=image/png:https://sfar.org/wp-content/uploads/2022/10/logo-comite-vie-professionnelle-1200x1200-1.png
END:VEVENT
BEGIN:VEVENT
DTSTART;TZID=Europe/Paris:20221213T093000
DTEND;TZID=Europe/Paris:20221213T170000
DTSTAMP:20260424T125451
CREATED:20221011T114939Z
LAST-MODIFIED:20230112T152721Z
UID:10000386-1670923800-1670950800@sfar.org
SUMMARY:SFAR Jeunes - Journée Infectio
DESCRIPTION:  \nRéservez aux membres à jour 2022 de la SFAR \n  \nProgramme\n8h30-9h00: accueil & petit-déjeuner \n\n9h00-9h45: Interprétation Interactive d’antibiogrammes (Dr Aurore Bousquet & Dr Larréché)\n9h45-10h30: Nouveaux antibiotiques: pourquoi? pour qui? (Dr Mickael Thy)\n\n11h pause-café \n\n11h30-12h15: COVID & Infections fongiques en réanimation (Dr Alexandra Serris) \n12h15-13h: Les 5 articles Incontournables en infectiologie (Pr Marc Leone)\n\n13h-14h pause déjeuner \n\n14h-14h45: Mon patient a une PCR positive\, est-ce que je l’endors? (Dr Marc Garnier)\n14h45-15h30: Antibioprophylaxie et Infections péri-opératoires\, ce que je ne sais pas déjà (Pr Emmanuel Weiss)\n\n15h30 pause-café \n\n16h-16h45: Ces Infections venues d’ailleurs : dengue\, West Nile\, parasitoses (Dr Mickael Thy)\n16h45-17h30: Pharmacocinétique des antibiotiques en réanimation: dialyse\, patient obèse ou dénutri (Pr Claire Roger)\n\n\nInscriptions\nTélécharger Programme Pédagogique \nINSCRIPTIONS CLOSES
URL:https://sfar.org/evenement/sfar-jeunes-journee-infectio/
LOCATION:Hôpital Beaujon – Paris\, 100 boulevard du Général Leclerc\, Clichy\, 92110\, France
CATEGORIES:SFAR JEUNES
ATTACH;FMTTYPE=image/png:https://sfar.org/wp-content/uploads/2022/10/Affiche2.png
END:VEVENT
BEGIN:VEVENT
DTSTART;VALUE=DATE:20221128
DTEND;VALUE=DATE:20221130
DTSTAMP:20260424T125451
CREATED:20221003T085317Z
LAST-MODIFIED:20221005T102617Z
UID:10000383-1669593600-1669766399@sfar.org
SUMMARY:Formation aide-soignant.e en réanimation / unité de soins intensifs polyvalents
DESCRIPTION:  \nInscriptions
URL:https://sfar.org/evenement/formation-aide-soignant-e-en-reanimation-unite-de-soins-intensifs-polyvalents/
LOCATION:Hôpital Beaujon – Paris\, 100 boulevard du Général Leclerc\, Clichy\, 92110\, France
CATEGORIES:Formations,IDE
ATTACH;FMTTYPE=image/png:https://sfar.org/wp-content/uploads/2020/11/logo-ide-rea-1.png
END:VEVENT
BEGIN:VEVENT
DTSTART;TZID=Europe/Paris:20221118T140000
DTEND;TZID=Europe/Paris:20221118T170000
DTSTAMP:20260424T125451
CREATED:20221114T085901Z
LAST-MODIFIED:20221114T090544Z
UID:10000255-1668780000-1668790800@sfar.org
SUMMARY:47ème réunion scientifique du Club de l'Histoire de l'Anesthésie et de la Réanimation
DESCRIPTION:  \nProgramme \n14 h 00 : De l’inconnue de la Seine à Ressusci Anne.\n \nJean-Pierre Haberer (Paris) \n 14 h 30 : Oxygène sous-cutané\, une histoire franco-belge.\n \nBruno De Turck (Gand Belgique) \n15h00 : Les préconisations antidouleurs ou anesthésiques dans\nl’histoire de la médecine égyptienne.\n \nJean Richard-Alain (Paris) \n16h00 : La face cachée du chloroforme : du mythe à la réalité.\n \nAtanas Sabahov (Paris) \n16h30 : Premières anesthésies en France 175 ème anniversaire\n(1847-2022). \nJean-Bernard Cazalaà (Paris) \n\nLien de la Conférence: \n47e réunion scientifique du CHAR \nID de réunion : 467 181 3043\nCode secret : 415320
URL:https://sfar.org/evenement/47eme-reunion-scientifique-du-club-de-lhistoire-de-lanesthesie-et-de-la-reanimation/
LOCATION:Hôpital Beaujon – Paris\, 100 boulevard du Général Leclerc\, Clichy\, 92110\, France
CATEGORIES:Conférence
ATTACH;FMTTYPE=image/jpeg:https://sfar.org/wp-content/uploads/2022/11/CHAR.jpeg
END:VEVENT
BEGIN:VEVENT
DTSTART;VALUE=DATE:20220601
DTEND;VALUE=DATE:20220602
DTSTAMP:20260424T125451
CREATED:20220405T150547Z
LAST-MODIFIED:20220530T083021Z
UID:10000235-1654041600-1654127999@sfar.org
SUMMARY:Formation Développement Durable au Bloc Opératoire : Principes Théoriques - Application Pratique
DESCRIPTION:Complet
URL:https://sfar.org/evenement/formation-developpement-durable-au-bloc-operatoire-principes-theoriques-application-pratique/
LOCATION:Hôpital Beaujon – Paris\, 100 boulevard du Général Leclerc\, Clichy\, 92110\, France
CATEGORIES:Développement Durable,Formations
ATTACH;FMTTYPE=image/png:https://sfar.org/wp-content/uploads/2022/04/SFAR-DD.png
END:VEVENT
BEGIN:VEVENT
DTSTART;VALUE=DATE:20220329
DTEND;VALUE=DATE:20220330
DTSTAMP:20260424T125451
CREATED:20220222T155940Z
LAST-MODIFIED:20220222T160201Z
UID:10000364-1648512000-1648598399@sfar.org
SUMMARY:Master class distancielle SfarCothova : Médecine périopératoire en chirurgie cardiothoracique et vasculaire
DESCRIPTION:Modération : Jean-Luc Fellahi (Lyon) – Sophie Provenchère (Paris)\nProgramme\n8h30 : Accueil des participants \n9h00 : Introduction de la journée : Jean-Luc Fellahi (Lyon) – Sophie Provenchère (Paris) \n9h10 : RFE SFAR/SFCTCV 2021 Réhabilitation améliorée après chirurgie cardiaque adulte : les points à retenir : Hélène Charbonneau (Toulouse)   \n9h40 : Fragilité : dépistage et gestion périopératoire : Sophie Provenchère (Paris) \n10h10 : Optimisation périopératoire des bétabloquants chez les patients chroniquement traités : Dan Longrois (Paris) \n10h40 : Pause \n11h00 : Prévention et traitement de la FAPO : Jean-Luc Fellahi (Lyon) \n11h30 : Prévention et gestion du délire postopératoire : Franck Verdonk (Paris) \n12h00 : Place de l’intelligence artificielle dans le contrôle tensionnel périopératoire : Matthias Jacquet-Lagrèze (Lyon) \n12h30 : Pause déjeuner \n14h00 : Contrôle glycémique périopératoire : quoi de neuf ? Guillaume Besch (Besançon) \n14h30 : Quelle place pour les AINS en chirurgie cardiothoracique ? : Osama Abou Arab (Amiens) \n15h00 : Optimiser l’hémodynamique : fluides ou vasopresseurs ? (Bernard Cholley) \n15h30 : Actualités sur la TIH : Anne Godier (Paris) \n16h00 : Pause \n16h20 : L’ALR en chirurgie thoracique en 2022 : Aude Charvet (Marseille)           \n16h40 : La RAAC en chirurgie oncothoracique : retour sur une success story : Renaud Grima et Isabelle Pavlakovic (Lyon) \n17h10 : Synthèse de la journée : Jean-Luc Fellahi (Lyon) – Sophie Provenchère (Paris)
URL:https://sfar.org/evenement/master-class-sfarcothova-medecine-perioperatoire-en-chirurgie-cardiothoracique-et-vasculaire/
LOCATION:Hôpital Beaujon – Paris\, 100 boulevard du Général Leclerc\, Clichy\, 92110\, France
ATTACH;FMTTYPE=image/png:https://sfar.org/wp-content/uploads/2022/02/logo-arcothova-texte.png
END:VEVENT
BEGIN:VEVENT
DTSTART;VALUE=DATE:20220316
DTEND;VALUE=DATE:20220318
DTSTAMP:20260424T125451
CREATED:20211025T092119Z
LAST-MODIFIED:20211209T161735Z
UID:10000337-1647388800-1647561599@sfar.org
SUMMARY:Les grands principes en SSPI
DESCRIPTION:Public : IDE en SSPI/IDE avec projet d’évoluer en SSPI \nFormation présentielle ouverte à tous les abonnés Paramédicaux de la SFAR à jour de leur cotisation « Pack éducationnel ». \nInscription obligatoire. \nPour les non adhérent(e)s SFAR : 200 Euros. \nInscriptions\n 
URL:https://sfar.org/evenement/les-grands-principes-en-sspi-2/
LOCATION:Hôpital Beaujon – Paris\, 100 boulevard du Général Leclerc\, Clichy\, 92110\, France
CATEGORIES:IADE,IDE
END:VEVENT
BEGIN:VEVENT
DTSTART;TZID=Europe/Paris:20211208T080000
DTEND;TZID=Europe/Paris:20211209T170000
DTSTAMP:20260424T125451
CREATED:20210909T150021Z
LAST-MODIFIED:20211001T101433Z
UID:10000324-1638950400-1639069200@sfar.org
SUMMARY:Les grands principes en SSPI
DESCRIPTION:Public : IDE en SSPI/IDE avec projet d’évoluer en SSPI \nFormation présentielle ouverte à tous les abonnés Paramédicaux de la SFAR à jour de leur cotisation « Pack éducationnel ». \nInscription obligatoire. \nPour les non adhérent(e)s SFAR : 200 Euros. \n  \nInscriptions\n  \n 
URL:https://sfar.org/evenement/les-grands-principes-en-sspi/
LOCATION:Hôpital Beaujon – Paris\, 100 boulevard du Général Leclerc\, Clichy\, 92110\, France
CATEGORIES:IADE,IDE
END:VEVENT
BEGIN:VEVENT
DTSTART;TZID=Europe/Paris:20211119T140000
DTEND;TZID=Europe/Paris:20211119T170000
DTSTAMP:20260424T125451
CREATED:20211115T165038Z
LAST-MODIFIED:20211115T165430Z
UID:10000344-1637330400-1637341200@sfar.org
SUMMARY:La 45e réunion scientifique du CHAR
DESCRIPTION:La 45e réunion scientifique du CHAR aura lieu le\nvendredi 19 novembre de 14h à 17h\n74 rue Raynouard 75016 Paris\nau siège de la SFAR (2e étage)\nPrésidents de séance\nJean-Bernard Cazalaà (Paris)\, Dominique Simon (Corbeil). \n14 h 00 : John Snow (1813-1858)\, premier médecin anesthésiste mondial.\nAtanas Sabahov (Paris) \n14 h 30 : La neuroleptanalgésie : histoire et avenir.\nFrédérique Servin (Courtenay) \n15h30 : Apports de la deuxième guerre mondiale pour la transfusion sanguine.\nYvonnick Blanloeil (Arcachon) \n16h00 : Histoire des foudroyés suivis par le Centre national de Toulouse.\nChristian Virenque (Toulouse) \n17h00 : Fin de réunion \nAccès libre en présentiel. En distanciel cette réunion sera diffusée sur le réseau Zoom du CHAR. Elle est limitée aux 99 premiers participants. Les consignes pour rejoindre la réunion vous seront envoyées ultérieurement. \nUn enregistrement des conférences sera fait et diffusé par la suite sur le site du CHAR : www.char-fr.net\nCordialement\nL’équipe du CHAR
URL:https://sfar.org/evenement/la-45e-reunion-scientifique-du-char/
LOCATION:Hôpital Beaujon – Paris\, 100 boulevard du Général Leclerc\, Clichy\, 92110\, France
ATTACH;FMTTYPE=image/jpeg:https://sfar.org/wp-content/uploads/2021/11/banniere_CHAR-2.jpg
END:VEVENT
END:VCALENDAR