BEGIN:VCALENDAR
VERSION:2.0
PRODID:-//Société Française d’Anesthésie et de Réanimation - ECPv6.15.12.2//NONSGML v1.0//EN
CALSCALE:GREGORIAN
METHOD:PUBLISH
X-WR-CALNAME:Société Française d’Anesthésie et de Réanimation
X-ORIGINAL-URL:https://sfar.org
X-WR-CALDESC:évènements pour Société Française d’Anesthésie et de Réanimation
REFRESH-INTERVAL;VALUE=DURATION:PT1H
X-Robots-Tag:noindex
X-PUBLISHED-TTL:PT1H
BEGIN:VTIMEZONE
TZID:Europe/Paris
BEGIN:DAYLIGHT
TZOFFSETFROM:+0100
TZOFFSETTO:+0200
TZNAME:CEST
DTSTART:20210328T010000
END:DAYLIGHT
BEGIN:STANDARD
TZOFFSETFROM:+0200
TZOFFSETTO:+0100
TZNAME:CET
DTSTART:20211031T010000
END:STANDARD
BEGIN:DAYLIGHT
TZOFFSETFROM:+0100
TZOFFSETTO:+0200
TZNAME:CEST
DTSTART:20220327T010000
END:DAYLIGHT
BEGIN:STANDARD
TZOFFSETFROM:+0200
TZOFFSETTO:+0100
TZNAME:CET
DTSTART:20221030T010000
END:STANDARD
BEGIN:DAYLIGHT
TZOFFSETFROM:+0100
TZOFFSETTO:+0200
TZNAME:CEST
DTSTART:20230326T010000
END:DAYLIGHT
BEGIN:STANDARD
TZOFFSETFROM:+0200
TZOFFSETTO:+0100
TZNAME:CET
DTSTART:20231029T010000
END:STANDARD
BEGIN:DAYLIGHT
TZOFFSETFROM:+0100
TZOFFSETTO:+0200
TZNAME:CEST
DTSTART:20240331T010000
END:DAYLIGHT
BEGIN:STANDARD
TZOFFSETFROM:+0200
TZOFFSETTO:+0100
TZNAME:CET
DTSTART:20241027T010000
END:STANDARD
BEGIN:DAYLIGHT
TZOFFSETFROM:+0100
TZOFFSETTO:+0200
TZNAME:CEST
DTSTART:20250330T010000
END:DAYLIGHT
BEGIN:STANDARD
TZOFFSETFROM:+0200
TZOFFSETTO:+0100
TZNAME:CET
DTSTART:20251026T010000
END:STANDARD
BEGIN:DAYLIGHT
TZOFFSETFROM:+0100
TZOFFSETTO:+0200
TZNAME:CEST
DTSTART:20260329T010000
END:DAYLIGHT
BEGIN:STANDARD
TZOFFSETFROM:+0200
TZOFFSETTO:+0100
TZNAME:CET
DTSTART:20261025T010000
END:STANDARD
END:VTIMEZONE
BEGIN:VEVENT
DTSTART;VALUE=DATE:20250613
DTEND;VALUE=DATE:20250614
DTSTAMP:20260422T062716
CREATED:20250326T161602Z
LAST-MODIFIED:20250326T161602Z
UID:10000504-1749772800-1749859199@sfar.org
SUMMARY:Colloque de l'association Facteurs Humains en Santé
DESCRIPTION:
URL:https://sfar.org/evenement/colloque-de-lassociation-facteurs-humains-en-sante/
LOCATION:Bordeaux\, Bordeaux\, France
CATEGORIES:Autres évenements
ATTACH;FMTTYPE=image/png:https://sfar.org/wp-content/uploads/2025/03/cropped-Logo-FHS.png
END:VEVENT
BEGIN:VEVENT
DTSTART;VALUE=DATE:20250315
DTEND;VALUE=DATE:20250316
DTSTAMP:20260422T062716
CREATED:20250120T073025Z
LAST-MODIFIED:20250120T073025Z
UID:10000467-1741996800-1742083199@sfar.org
SUMMARY:Journée ARRES de prévention du risque périopératoire : Bordeaux
DESCRIPTION:
URL:https://sfar.org/evenement/journee-arres-de-prevention-du-risque-perioperatoire-bordeaux/
LOCATION:Bordeaux\, Bordeaux\, France
CATEGORIES:Formations
END:VEVENT
BEGIN:VEVENT
DTSTART;VALUE=DATE:20241205
DTEND;VALUE=DATE:20241207
DTSTAMP:20260422T062716
CREATED:20241021T113525Z
LAST-MODIFIED:20241021T113525Z
UID:10000443-1733356800-1733529599@sfar.org
SUMMARY:12es Journées CAPSO
DESCRIPTION:
URL:https://sfar.org/evenement/12es-journees-capso/
LOCATION:Bordeaux\, Bordeaux\, France
CATEGORIES:Congrès
ATTACH;FMTTYPE=image/webp:https://sfar.org/wp-content/uploads/2024/10/CAPSO24_Vignette_140-x-140-px.webp
END:VEVENT
BEGIN:VEVENT
DTSTART;VALUE=DATE:20221109
DTEND;VALUE=DATE:20221112
DTSTAMP:20260422T062716
CREATED:20220125T102056Z
LAST-MODIFIED:20220125T102056Z
UID:10000226-1667952000-1668211199@sfar.org
SUMMARY:Congrès AFARCOT
DESCRIPTION:Novembre 2022\nL’AFARCOT fait son marathon à Bordeaux\n\nMercredi 09/11 en soirée : Symposiums\nJeudi 10/11 : Journée plénière\nVendredi 11/11 en matinée : Ateliers
URL:https://sfar.org/evenement/congres-afarcot/
LOCATION:Bordeaux\, Bordeaux\, France
CATEGORIES:Congrès
ATTACH;FMTTYPE=image/png:https://sfar.org/wp-content/uploads/2022/01/annonce_bordeaux_03.png
END:VEVENT
BEGIN:VEVENT
DTSTART;VALUE=DATE:20221006
DTEND;VALUE=DATE:20221008
DTSTAMP:20260422T062716
CREATED:20220712T122653Z
LAST-MODIFIED:20220712T122954Z
UID:10000241-1665014400-1665187199@sfar.org
SUMMARY:2ème Rendez-vous des transplanteurs hépatiques
DESCRIPTION:
URL:https://sfar.org/evenement/2eme-rendez-vous-des-transplanteurs-hepatiques/
LOCATION:Bordeaux\, Bordeaux\, France
CATEGORIES:Autres évenements
ATTACH;FMTTYPE=image/png:https://sfar.org/wp-content/uploads/2022/07/Capture-decran-2022-07-12-142829.png
END:VEVENT
END:VCALENDAR