BEGIN:VCALENDAR
VERSION:2.0
PRODID:-//Société Française d’Anesthésie et de Réanimation - ECPv6.15.12.2//NONSGML v1.0//EN
CALSCALE:GREGORIAN
METHOD:PUBLISH
X-WR-CALNAME:Société Française d’Anesthésie et de Réanimation
X-ORIGINAL-URL:https://sfar.org
X-WR-CALDESC:évènements pour Société Française d’Anesthésie et de Réanimation
REFRESH-INTERVAL;VALUE=DURATION:PT1H
X-Robots-Tag:noindex
X-PUBLISHED-TTL:PT1H
BEGIN:VTIMEZONE
TZID:Europe/Paris
BEGIN:DAYLIGHT
TZOFFSETFROM:+0100
TZOFFSETTO:+0200
TZNAME:CEST
DTSTART:20220327T010000
END:DAYLIGHT
BEGIN:STANDARD
TZOFFSETFROM:+0200
TZOFFSETTO:+0100
TZNAME:CET
DTSTART:20221030T010000
END:STANDARD
BEGIN:DAYLIGHT
TZOFFSETFROM:+0100
TZOFFSETTO:+0200
TZNAME:CEST
DTSTART:20230326T010000
END:DAYLIGHT
BEGIN:STANDARD
TZOFFSETFROM:+0200
TZOFFSETTO:+0100
TZNAME:CET
DTSTART:20231029T010000
END:STANDARD
BEGIN:DAYLIGHT
TZOFFSETFROM:+0100
TZOFFSETTO:+0200
TZNAME:CEST
DTSTART:20240331T010000
END:DAYLIGHT
BEGIN:STANDARD
TZOFFSETFROM:+0200
TZOFFSETTO:+0100
TZNAME:CET
DTSTART:20241027T010000
END:STANDARD
END:VTIMEZONE
BEGIN:VEVENT
DTSTART;VALUE=DATE:20230330
DTEND;VALUE=DATE:20230401
DTSTAMP:20260424T125946
CREATED:20230125T092247Z
LAST-MODIFIED:20230125T092247Z
UID:10000269-1680134400-1680307199@sfar.org
SUMMARY:Formation Arcothova - Masterclass "Perfusion"
DESCRIPTION:PROGRAMME \nJeudi 30 mars 2023 \n14h-17h30 : La CEC à la carte – modérateurs : Jean-Luc Fellahi et Sophie Provenchère\n– Optimalisation hémodynamique\nPression ou débit. Julien Amour\nCEC pulsée\, niveau d’oxygénation per CEC. Alexandre Ouattara\nSeuils transfusionnels. Diane Lena\nHémostase ciblée (anticoagulation per opératoire et thromboélastographie). Bertrand Rozec \n– Optimalisation chirurgicale\nChirurgie mini-invasive de la valve aortique et de la valve mitrale : les particularités de la CEC. Fabien Doguet\nCircuit de CEC optimisé (mini CEC\, type de circuit\, traitement…\, centri versus gallet). Christophe Beaufreton\nL’utilisation d’un système de récupération sanguine per operatoire a-t-elle un impact sur la survenue de complications\npost operatoires ? Alexandre Mansour\nLes modalités de cardioplégie ont elle un impact sur le devenir des patients. René Ferrara \n17H45-19h45 : Ateliers animés par Florent Laverdure et Benjamin Frossard\nAtelier CEC « en conditions normales » : Utilisation des consoles « dernière génération » sur simulateur Califia\nAtelier d’hémostase pratique peropératoire de chirurgie cardiaque (dernières générations de thromboélastogrammes) \nVendredi 31 mars 2023 \n8h-12h : La CEC à la carte – modérateurs : Jean-Luc Fellahi et Bernard Cholley\n– Optimalisation ventilatoire perCEC. Sophie Provenchère\n– Impact de la CEC en post opératoire\nComment on évalue la qualité de la CEC en post opératoire. Aude Carillion\nLa chirurgie sous CEC en normothermie a-t-elle un impact sur la survenue de complications post opératoire. Nicolas\nNessler\nRationnel des halogénés dans la CEC. Pascal Chiari \n– Sortie de CEC difficile\nChoc cardiogénique post cardiotomie. Bernard Cholley\nChoc cardiogénique réfractaire. Adrien Bougle \n13h30-16H00 : Ateliers animés par Florent Laverdure et Benjamin Frossard\n– Atelier utilisation des consoles dernière génération sur simulateur Califia en situation normale et d’accident grave
URL:https://sfar.org/evenement/formation-arcothova-masterclass-perfusion/
LOCATION:Châteauform’ – Château de Ronqueux\, D149 - Route de Cernay-La-Ville\, Bullion\, 78830
CATEGORIES:Formations
ATTACH;FMTTYPE=image/png:https://sfar.org/wp-content/uploads/2022/02/logo-arcothova-texte.png
END:VEVENT
END:VCALENDAR