BEGIN:VCALENDAR
VERSION:2.0
PRODID:-//Société Française d’Anesthésie et de Réanimation - ECPv6.15.12.2//NONSGML v1.0//EN
CALSCALE:GREGORIAN
METHOD:PUBLISH
X-ORIGINAL-URL:https://sfar.org
X-WR-CALDESC:évènements pour Société Française d’Anesthésie et de Réanimation
REFRESH-INTERVAL;VALUE=DURATION:PT1H
X-Robots-Tag:noindex
X-PUBLISHED-TTL:PT1H
BEGIN:VTIMEZONE
TZID:Europe/Paris
BEGIN:DAYLIGHT
TZOFFSETFROM:+0100
TZOFFSETTO:+0200
TZNAME:CEST
DTSTART:20210328T010000
END:DAYLIGHT
BEGIN:STANDARD
TZOFFSETFROM:+0200
TZOFFSETTO:+0100
TZNAME:CET
DTSTART:20211031T010000
END:STANDARD
BEGIN:DAYLIGHT
TZOFFSETFROM:+0100
TZOFFSETTO:+0200
TZNAME:CEST
DTSTART:20220327T010000
END:DAYLIGHT
BEGIN:STANDARD
TZOFFSETFROM:+0200
TZOFFSETTO:+0100
TZNAME:CET
DTSTART:20221030T010000
END:STANDARD
BEGIN:DAYLIGHT
TZOFFSETFROM:+0100
TZOFFSETTO:+0200
TZNAME:CEST
DTSTART:20230326T010000
END:DAYLIGHT
BEGIN:STANDARD
TZOFFSETFROM:+0200
TZOFFSETTO:+0100
TZNAME:CET
DTSTART:20231029T010000
END:STANDARD
BEGIN:DAYLIGHT
TZOFFSETFROM:+0100
TZOFFSETTO:+0200
TZNAME:CEST
DTSTART:20240331T010000
END:DAYLIGHT
BEGIN:STANDARD
TZOFFSETFROM:+0200
TZOFFSETTO:+0100
TZNAME:CET
DTSTART:20241027T010000
END:STANDARD
END:VTIMEZONE
BEGIN:VEVENT
DTSTART;VALUE=DATE:20231019
DTEND;VALUE=DATE:20231021
DTSTAMP:20260422T051311
CREATED:20221222T151050Z
LAST-MODIFIED:20231017T095626Z
UID:10000397-1697673600-1697846399@sfar.org
SUMMARY:Formation aides soignant(e)s module 1
DESCRIPTION:Fiche pédagogique \nTélécharger \nInscription Close
URL:https://sfar.org/evenement/formation-aides-soignantes-module-1-2/
LOCATION:Hopital Pitié Salpetrière\, 47-83 Bd de l'Hôpital\, Paris\, 75013\, France
CATEGORIES:Formations,IDE
ATTACH;FMTTYPE=image/png:https://sfar.org/wp-content/uploads/2022/03/logo-ide-rea-300.png
END:VEVENT
BEGIN:VEVENT
DTSTART;VALUE=DATE:20230612
DTEND;VALUE=DATE:20230614
DTSTAMP:20260422T051311
CREATED:20221130T172418Z
LAST-MODIFIED:20230608T141907Z
UID:10000258-1686528000-1686700799@sfar.org
SUMMARY:Urgences en SSPI
DESCRIPTION:INSCRIPTIONS CLOSE
URL:https://sfar.org/evenement/urgences-en-sspi/
LOCATION:Hopital Pitié Salpetrière\, 47-83 Bd de l'Hôpital\, Paris\, 75013\, France
CATEGORIES:Formations,IDE
ATTACH;FMTTYPE=image/png:https://sfar.org/wp-content/uploads/2022/03/logo-ide-rea-300.png
END:VEVENT
BEGIN:VEVENT
DTSTART;VALUE=DATE:20230605
DTEND;VALUE=DATE:20230607
DTSTAMP:20260422T051311
CREATED:20221222T150944Z
LAST-MODIFIED:20230601T081714Z
UID:10000396-1685923200-1686095999@sfar.org
SUMMARY:Formation aides soignant(e)s module 2
DESCRIPTION:Inscriptions Closes
URL:https://sfar.org/evenement/formation-aides-soignantes-module-2/
LOCATION:Hopital Pitié Salpetrière\, 47-83 Bd de l'Hôpital\, Paris\, 75013\, France
CATEGORIES:Formations,IDE
ATTACH;FMTTYPE=image/png:https://sfar.org/wp-content/uploads/2022/03/logo-ide-rea-300.png
END:VEVENT
BEGIN:VEVENT
DTSTART;VALUE=DATE:20230320
DTEND;VALUE=DATE:20230322
DTSTAMP:20260422T051311
CREATED:20221130T173657Z
LAST-MODIFIED:20230929T091925Z
UID:10000392-1679270400-1679443199@sfar.org
SUMMARY:Formation aides soignantes module 1
DESCRIPTION:Fiche pédagogique\nTélécharger\nInscriptions closes
URL:https://sfar.org/evenement/formation-aides-soignantes-module-1/
LOCATION:Hopital Pitié Salpetrière\, 47-83 Bd de l'Hôpital\, Paris\, 75013\, France
CATEGORIES:Formations,IDE
ATTACH;FMTTYPE=image/png:https://sfar.org/wp-content/uploads/2022/03/logo-ide-rea-300.png
END:VEVENT
BEGIN:VEVENT
DTSTART;VALUE=DATE:20221201
DTEND;VALUE=DATE:20221203
DTSTAMP:20260422T051311
CREATED:20220426T084908Z
LAST-MODIFIED:20221012T100316Z
UID:10000239-1669852800-1670025599@sfar.org
SUMMARY:Les grands principes en SSPI
DESCRIPTION:  \n \nInscriptions (membres SFAR)\nVous devez vous connecter ou bien adhérer à la SFAR pour accéder à ce contenu.\n\nInscriptions (non-membres SFAR)\nInscription non-membres SFAR
URL:https://sfar.org/evenement/les-grands-principes-en-sspi-5/
LOCATION:Hopital Pitié Salpetrière\, 47-83 Bd de l'Hôpital\, Paris\, 75013\, France
CATEGORIES:Formations,IDE
END:VEVENT
BEGIN:VEVENT
DTSTART;VALUE=DATE:20221114
DTEND;VALUE=DATE:20221115
DTSTAMP:20260422T051311
CREATED:20220524T121832Z
LAST-MODIFIED:20220718T103722Z
UID:10000377-1668384000-1668470399@sfar.org
SUMMARY:Formation IDE SSPI Niv 2
DESCRIPTION:Vous devez vous connecter ou bien adhérer à la SFAR pour accéder à ce contenu. \n\nInscriptions (non-membres SFAR)\nInscription non-membres SFAR
URL:https://sfar.org/evenement/formation-ide-sspi-niv-2/
LOCATION:Hopital Pitié Salpetrière\, 47-83 Bd de l'Hôpital\, Paris\, 75013\, France
CATEGORIES:Formations,IDE
END:VEVENT
BEGIN:VEVENT
DTSTART;VALUE=DATE:20221018
DTEND;VALUE=DATE:20221020
DTSTAMP:20260422T051311
CREATED:20220426T084712Z
LAST-MODIFIED:20221012T100235Z
UID:10000238-1666051200-1666223999@sfar.org
SUMMARY:Les grands principes en SSPI
DESCRIPTION:Inscriptions (membres SFAR)\nVous devez vous connecter ou bien adhérer à la SFAR pour accéder à ce contenu.\n\nInscriptions (non-membres SFAR)\nInscription non-membres SFAR
URL:https://sfar.org/evenement/les-grands-principes-en-sspi-4/
LOCATION:Hopital Pitié Salpetrière\, 47-83 Bd de l'Hôpital\, Paris\, 75013\, France
CATEGORIES:Formations,IDE
END:VEVENT
BEGIN:VEVENT
DTSTART;VALUE=DATE:20220630
DTEND;VALUE=DATE:20220702
DTSTAMP:20260422T051311
CREATED:20220317T155458Z
LAST-MODIFIED:20220624T085814Z
UID:10000368-1656547200-1656719999@sfar.org
SUMMARY:Les grands principes en SSPI
DESCRIPTION:Public : IDE en SSPI/IDE avec projet d’évoluer en SSPI \nFormation présentielle ouverte à tous les abonnés Paramédicaux de la SFAR à jour de leur cotisation « Pack éducationnel ». \n \n  \nInscriptions closes. \n 
URL:https://sfar.org/evenement/les-grands-principes-en-sspi-3/
LOCATION:Hopital Pitié Salpetrière\, 47-83 Bd de l'Hôpital\, Paris\, 75013\, France
CATEGORIES:Formations,IADE,IDE
END:VEVENT
END:VCALENDAR