BEGIN:VCALENDAR
VERSION:2.0
PRODID:-//Société Française d’Anesthésie et de Réanimation - ECPv6.15.12.2//NONSGML v1.0//EN
CALSCALE:GREGORIAN
METHOD:PUBLISH
X-ORIGINAL-URL:https://sfar.org
X-WR-CALDESC:évènements pour Société Française d’Anesthésie et de Réanimation
REFRESH-INTERVAL;VALUE=DURATION:PT1H
X-Robots-Tag:noindex
X-PUBLISHED-TTL:PT1H
BEGIN:VTIMEZONE
TZID:Europe/Paris
BEGIN:DAYLIGHT
TZOFFSETFROM:+0100
TZOFFSETTO:+0200
TZNAME:CEST
DTSTART:20210328T010000
END:DAYLIGHT
BEGIN:STANDARD
TZOFFSETFROM:+0200
TZOFFSETTO:+0100
TZNAME:CET
DTSTART:20211031T010000
END:STANDARD
BEGIN:DAYLIGHT
TZOFFSETFROM:+0100
TZOFFSETTO:+0200
TZNAME:CEST
DTSTART:20220327T010000
END:DAYLIGHT
BEGIN:STANDARD
TZOFFSETFROM:+0200
TZOFFSETTO:+0100
TZNAME:CET
DTSTART:20221030T010000
END:STANDARD
BEGIN:DAYLIGHT
TZOFFSETFROM:+0100
TZOFFSETTO:+0200
TZNAME:CEST
DTSTART:20230326T010000
END:DAYLIGHT
BEGIN:STANDARD
TZOFFSETFROM:+0200
TZOFFSETTO:+0100
TZNAME:CET
DTSTART:20231029T010000
END:STANDARD
BEGIN:DAYLIGHT
TZOFFSETFROM:+0100
TZOFFSETTO:+0200
TZNAME:CEST
DTSTART:20240331T010000
END:DAYLIGHT
BEGIN:STANDARD
TZOFFSETFROM:+0200
TZOFFSETTO:+0100
TZNAME:CET
DTSTART:20241027T010000
END:STANDARD
BEGIN:DAYLIGHT
TZOFFSETFROM:+0100
TZOFFSETTO:+0200
TZNAME:CEST
DTSTART:20250330T010000
END:DAYLIGHT
BEGIN:STANDARD
TZOFFSETFROM:+0200
TZOFFSETTO:+0100
TZNAME:CET
DTSTART:20251026T010000
END:STANDARD
BEGIN:DAYLIGHT
TZOFFSETFROM:+0100
TZOFFSETTO:+0200
TZNAME:CEST
DTSTART:20260329T010000
END:DAYLIGHT
BEGIN:STANDARD
TZOFFSETFROM:+0200
TZOFFSETTO:+0100
TZNAME:CET
DTSTART:20261025T010000
END:STANDARD
END:VTIMEZONE
BEGIN:VEVENT
DTSTART;TZID=Europe/Paris:20251211T130000
DTEND;TZID=Europe/Paris:20251211T170000
DTSTAMP:20260422T045704
CREATED:20251120T122656Z
LAST-MODIFIED:20251210T134345Z
UID:10000525-1765458000-1765472400@sfar.org
SUMMARY:Atelier ventilation en réanimation
DESCRIPTION:  \nFormation réservée aux membres SFAR \nFormation COMPLETE
URL:https://sfar.org/evenement/atelier-ventilation-en-reanimation/
LOCATION:Lille\, 1 place de Verdun\, Lille\, 59000\, France
CATEGORIES:Formations,REA
ATTACH;FMTTYPE=image/png:https://sfar.org/wp-content/uploads/2024/09/SFAR-REA-e1763644715679.png
END:VEVENT
BEGIN:VEVENT
DTSTART;VALUE=DATE:20230406
DTEND;VALUE=DATE:20230408
DTSTAMP:20260422T045704
CREATED:20230208T181159Z
LAST-MODIFIED:20230208T181159Z
UID:10000403-1680739200-1680911999@sfar.org
SUMMARY:28ème Journées Lilloises d'Anesthesie Réanimation et de Médecine d'Urgence - 3ème Journées Lilloises de la Douleur
DESCRIPTION:
URL:https://sfar.org/evenement/28eme-journees-lilloises-danesthesie-reanimation-et-de-medecine-durgence-3eme-journees-lilloises-de-la-douleur/
LOCATION:Lille\, 1 place de Verdun\, Lille\, 59000\, France
CATEGORIES:Congrès
ATTACH;FMTTYPE=image/jpeg:https://sfar.org/wp-content/uploads/2023/02/LOGO-JLAR-2019.jpg
END:VEVENT
BEGIN:VEVENT
DTSTART;VALUE=DATE:20220326
DTEND;VALUE=DATE:20220327
DTSTAMP:20260422T045704
CREATED:20220222T151211Z
LAST-MODIFIED:20220222T151442Z
UID:10000363-1648252800-1648339199@sfar.org
SUMMARY:MasterClass du GIHP
DESCRIPTION:Thromboprophylaxie\, TIH et gestion périopératoire de l’hémophile. Un tour d’horizon gratuit sur préinscription.
URL:https://sfar.org/evenement/masterclass-du-gihp/
LOCATION:Lille\, 1 place de Verdun\, Lille\, 59000\, France
CATEGORIES:Autres évenements
ATTACH;FMTTYPE=image/jpeg:https://sfar.org/wp-content/uploads/2022/02/FMNZp_AXMAglghk.jpg
END:VEVENT
END:VCALENDAR