BEGIN:VCALENDAR
VERSION:2.0
PRODID:-//Société Française d’Anesthésie et de Réanimation - ECPv6.15.12.2//NONSGML v1.0//EN
CALSCALE:GREGORIAN
METHOD:PUBLISH
X-ORIGINAL-URL:https://sfar.org
X-WR-CALDESC:évènements pour Société Française d’Anesthésie et de Réanimation
REFRESH-INTERVAL;VALUE=DURATION:PT1H
X-Robots-Tag:noindex
X-PUBLISHED-TTL:PT1H
BEGIN:VTIMEZONE
TZID:Europe/Paris
BEGIN:DAYLIGHT
TZOFFSETFROM:+0100
TZOFFSETTO:+0200
TZNAME:CEST
DTSTART:20210328T010000
END:DAYLIGHT
BEGIN:STANDARD
TZOFFSETFROM:+0200
TZOFFSETTO:+0100
TZNAME:CET
DTSTART:20211031T010000
END:STANDARD
BEGIN:DAYLIGHT
TZOFFSETFROM:+0100
TZOFFSETTO:+0200
TZNAME:CEST
DTSTART:20220327T010000
END:DAYLIGHT
BEGIN:STANDARD
TZOFFSETFROM:+0200
TZOFFSETTO:+0100
TZNAME:CET
DTSTART:20221030T010000
END:STANDARD
BEGIN:DAYLIGHT
TZOFFSETFROM:+0100
TZOFFSETTO:+0200
TZNAME:CEST
DTSTART:20230326T010000
END:DAYLIGHT
BEGIN:STANDARD
TZOFFSETFROM:+0200
TZOFFSETTO:+0100
TZNAME:CET
DTSTART:20231029T010000
END:STANDARD
BEGIN:DAYLIGHT
TZOFFSETFROM:+0100
TZOFFSETTO:+0200
TZNAME:CEST
DTSTART:20240331T010000
END:DAYLIGHT
BEGIN:STANDARD
TZOFFSETFROM:+0200
TZOFFSETTO:+0100
TZNAME:CET
DTSTART:20241027T010000
END:STANDARD
BEGIN:DAYLIGHT
TZOFFSETFROM:+0100
TZOFFSETTO:+0200
TZNAME:CEST
DTSTART:20250330T010000
END:DAYLIGHT
BEGIN:STANDARD
TZOFFSETFROM:+0200
TZOFFSETTO:+0100
TZNAME:CET
DTSTART:20251026T010000
END:STANDARD
BEGIN:DAYLIGHT
TZOFFSETFROM:+0100
TZOFFSETTO:+0200
TZNAME:CEST
DTSTART:20260329T010000
END:DAYLIGHT
BEGIN:STANDARD
TZOFFSETFROM:+0200
TZOFFSETTO:+0100
TZNAME:CET
DTSTART:20261025T010000
END:STANDARD
END:VTIMEZONE
BEGIN:VEVENT
DTSTART;VALUE=DATE:20250628
DTEND;VALUE=DATE:20250629
DTSTAMP:20260422T103246
CREATED:20250513T163727Z
LAST-MODIFIED:20250513T163727Z
UID:10000509-1751068800-1751155199@sfar.org
SUMMARY:2ème édition du congrès santé en 2050
DESCRIPTION:
URL:https://sfar.org/evenement/2eme-edition-du-congres-sante-en-2050/
LOCATION:Lyon\, France
CATEGORIES:Congrès
ATTACH;FMTTYPE=image/png:https://sfar.org/wp-content/uploads/2025/05/Sante-2050-badge-BV.png
END:VEVENT
BEGIN:VEVENT
DTSTART;VALUE=DATE:20250603
DTEND;VALUE=DATE:20250605
DTSTAMP:20260422T103246
CREATED:20250129T125104Z
LAST-MODIFIED:20250129T125104Z
UID:10000472-1748908800-1749081599@sfar.org
SUMMARY:Congrès ICAR 2025
DESCRIPTION:
URL:https://sfar.org/evenement/congres-icar-2025/
LOCATION:Lyon\, France
CATEGORIES:Congrès
ATTACH;FMTTYPE=image/jpeg:https://sfar.org/wp-content/uploads/2025/01/1674007923762.jpg
END:VEVENT
BEGIN:VEVENT
DTSTART;VALUE=DATE:20250523
DTEND;VALUE=DATE:20250525
DTSTAMP:20260422T103246
CREATED:20250304T085042Z
LAST-MODIFIED:20250304T085042Z
UID:10000499-1747958400-1748131199@sfar.org
SUMMARY:Congrès CARO - ADARPEF
DESCRIPTION:
URL:https://sfar.org/evenement/congres-caro-adarpef/
LOCATION:Lyon\, France
CATEGORIES:Congrès
ATTACH;FMTTYPE=image/png:https://sfar.org/wp-content/uploads/2025/03/Capture-decran-2025-03-04-095009.png
END:VEVENT
BEGIN:VEVENT
DTSTART;VALUE=DATE:20250516
DTEND;VALUE=DATE:20250517
DTSTAMP:20260422T103246
CREATED:20250310T093241Z
LAST-MODIFIED:20250513T101330Z
UID:10000500-1747353600-1747439999@sfar.org
SUMMARY:Journée de perfectionnement en réanimation - Microbiologie appliquée à la réanimation
DESCRIPTION:09h00 : accueil \n09h20 : Introduction Anne-Claire Lukaszewicz – Fanny Vardon \nSession 1 : Epidémiologie et résistance microbiologique (Modération Céline Guichon – Pr Eric Oswald) \n\n09h30 – 10h00 : Epidémiologie des résistances antibiotiques dans le monde\, en France\, et en réanimation (Dr Nathalie Grall\, APHP Bichat)\n10h00 – 10h30 : Anatomie d’une bactérie et de ses moyens de résistance (Dr Xavier Vuillemin\, Besançon)\n10h30 – 11h00 : Antibiorésistance : une approche intégrée pour la santé humaine\, animale et environnementale (Pr Eric Oswald\, Toulouse)\n\nPause 11h00-11h30 \nSession 2 : innovation en antibiothérapie (Modération Bernard Allaouchiche- Pre Claire Roger) \n\n11h30 – 12h00 : Place en réanimation des nouveaux anti infectieux (espèces hautement résistantes émergentes) (Pr Arnaud Friggeri Lyon)\n12h00 – 12h30 : Développement d’un nouvel anti infectieux\, du tube vers le patient (Dr Kerya Long\, Paris)\n\nDéjeuner 12h30 – 14h00 (Shionigi Biomérieux) \nSession 3 : Biomarqueurs et innovation (Modération Pr Benjamin Chousterman –Dr Mathieu Desmard) \n\n14h00 – 14h30 : Place des biomarqueurs dans la stratégie thérapeutique (Pr Claire Roger\, Nîmes)\n14h30 – 15h00 : L’analyse génomique dans le diagnostic rapide : technologie\, aspect pratique et implémentation (Dre Céline Monard\, Lyon)\n15h00 – 15h30 : Comme j’interprète le TDR dans ma suspicion de pneumopathie ? (Pr Adrien Bouglé\, APHP)\n\nPause 15h30 – 16h00  \nSession 4 : Interaction microbiologie et immunité (Modération Anne-Claire Lukaszewicz – Pr Arnaud Friggeri) \n\n16h00-16h30 : Immunothérapie dans le sepsis – où en est-on ? (Pr Benjamin Chousterman)\n16h30-17h00 : Comment le microbiote peut impacter la réponse immunitaire en réanimation ? (Dr David Ribet\, Rouen)\n\n\n  \n\n\n\nType inscriptions\nTarif\n\n\n\n\nMédecins\, internes\, FFI : membre SFAR à jour 2025\nGratuit\n\n\nInfirmiers (IADE & IDE) membre SFAR à jour 2025 avec Pack éducationnel\nGratuit\n\n\nEtudiants infirmiers\, membre SFAR  à jour 2025\nGratuit\n\n\nMédecin non-membre SFAR\n600 €*\n\n\nInterne non-membre SFAR\n150 €*\n\n\nParamédical non-membre SFAR\n300 €*\n\n\n\n\n\nINSCRIPTIONS CLOSES\nCe contenu est réservé aux membres du niveau  uniquement.AdhérerDéjà membre ? Connectez-vous ici
URL:https://sfar.org/evenement/journee-de-perfectionnement-en-reanimation-microbiologie-appliquee-a-la-reanimation/
LOCATION:Lyon\, France
CATEGORIES:Formations,REA
ATTACH;FMTTYPE=image/png:https://sfar.org/wp-content/uploads/2024/09/SFAR-REA-e1763644715679.png
END:VEVENT
BEGIN:VEVENT
DTSTART;VALUE=DATE:20250424
DTEND;VALUE=DATE:20250427
DTSTAMP:20260422T103246
CREATED:20250128T064210Z
LAST-MODIFIED:20250128T064210Z
UID:10000470-1745452800-1745711999@sfar.org
SUMMARY:EFIC Congrès 2025
DESCRIPTION:
URL:https://sfar.org/evenement/efic-congres-2025/
LOCATION:Lyon\, France
CATEGORIES:Congrès
ATTACH;FMTTYPE=image/png:https://sfar.org/wp-content/uploads/2025/01/efic-logo.png
END:VEVENT
BEGIN:VEVENT
DTSTART;VALUE=DATE:20241125
DTEND;VALUE=DATE:20241127
DTSTAMP:20260422T103246
CREATED:20240917T144442Z
LAST-MODIFIED:20240917T144442Z
UID:10000439-1732492800-1732665599@sfar.org
SUMMARY:Congrès de l’association Neuro-Anesthésie-Réanimation de Langue Française (ANARLF)
DESCRIPTION:
URL:https://sfar.org/evenement/congres-de-lassociation-neuro-anesthesie-reanimation-de-langue-francaise-anarlf/
LOCATION:Lyon\, France
CATEGORIES:Congrès
ATTACH;FMTTYPE=image/png:https://sfar.org/wp-content/uploads/2024/09/ANARLF.png
END:VEVENT
BEGIN:VEVENT
DTSTART;VALUE=DATE:20230608
DTEND;VALUE=DATE:20230610
DTSTAMP:20260422T103246
CREATED:20230412T070525Z
LAST-MODIFIED:20230524T150054Z
UID:10000274-1686182400-1686355199@sfar.org
SUMMARY:Congrès ICAR
DESCRIPTION:
URL:https://sfar.org/evenement/congres-icar/
LOCATION:Lyon\, France
CATEGORIES:Congrès
ATTACH;FMTTYPE=image/png:https://sfar.org/wp-content/uploads/2023/04/icar.png
END:VEVENT
BEGIN:VEVENT
DTSTART;VALUE=DATE:20230526
DTEND;VALUE=DATE:20230527
DTSTAMP:20260422T103246
CREATED:20230307T141118Z
LAST-MODIFIED:20230929T083501Z
UID:10000404-1685059200-1685145599@sfar.org
SUMMARY:Formation Développement Durable au Bloc Opératoire - Lyon
DESCRIPTION:  \nFiche pédagogique\nTélécharger \n\nInscriptions non membre\nInscriptions closes \nInscriptions membre\n  \nInscriptions closes
URL:https://sfar.org/evenement/formation-developpement-durable-au-bloc-operatoire-lyon/
LOCATION:Lyon\, France
CATEGORIES:Développement Durable,Formations
ATTACH;FMTTYPE=image/png:https://sfar.org/wp-content/uploads/2022/04/SFAR-DD.png
END:VEVENT
BEGIN:VEVENT
DTSTART;VALUE=DATE:20220907
DTEND;VALUE=DATE:20220908
DTSTAMP:20260422T103246
CREATED:20220523T112857Z
LAST-MODIFIED:20220523T112857Z
UID:10000376-1662508800-1662595199@sfar.org
SUMMARY:3ème édition de la rentrée de la méthodo
DESCRIPTION:
URL:https://sfar.org/evenement/3eme-edition-de-la-rentree-de-la-methodo/
LOCATION:Lyon\, France
CATEGORIES:Autres évenements
ATTACH;FMTTYPE=image/png:https://sfar.org/wp-content/uploads/2022/05/SFPT-logo-v01.png
ORGANIZER;CN="Soci%C3%A9t%C3%A9 fran%C3%A7aise de pharmacologie et th%C3%A9rapeutique":MAILTO:secretariat@sfpt-fr.org
END:VEVENT
END:VCALENDAR