BEGIN:VCALENDAR
VERSION:2.0
PRODID:-//Société Française d’Anesthésie et de Réanimation - ECPv6.15.12.2//NONSGML v1.0//EN
CALSCALE:GREGORIAN
METHOD:PUBLISH
X-ORIGINAL-URL:https://sfar.org
X-WR-CALDESC:évènements pour Société Française d’Anesthésie et de Réanimation
REFRESH-INTERVAL;VALUE=DURATION:PT1H
X-Robots-Tag:noindex
X-PUBLISHED-TTL:PT1H
BEGIN:VTIMEZONE
TZID:Europe/Paris
BEGIN:DAYLIGHT
TZOFFSETFROM:+0100
TZOFFSETTO:+0200
TZNAME:CEST
DTSTART:20220327T010000
END:DAYLIGHT
BEGIN:STANDARD
TZOFFSETFROM:+0200
TZOFFSETTO:+0100
TZNAME:CET
DTSTART:20221030T010000
END:STANDARD
BEGIN:DAYLIGHT
TZOFFSETFROM:+0100
TZOFFSETTO:+0200
TZNAME:CEST
DTSTART:20230326T010000
END:DAYLIGHT
BEGIN:STANDARD
TZOFFSETFROM:+0200
TZOFFSETTO:+0100
TZNAME:CET
DTSTART:20231029T010000
END:STANDARD
BEGIN:DAYLIGHT
TZOFFSETFROM:+0100
TZOFFSETTO:+0200
TZNAME:CEST
DTSTART:20240331T010000
END:DAYLIGHT
BEGIN:STANDARD
TZOFFSETFROM:+0200
TZOFFSETTO:+0100
TZNAME:CET
DTSTART:20241027T010000
END:STANDARD
END:VTIMEZONE
BEGIN:VEVENT
DTSTART;TZID=Europe/Paris:20230324T090000
DTEND;TZID=Europe/Paris:20230324T123000
DTSTAMP:20260422T121644
CREATED:20230206T085930Z
LAST-MODIFIED:20230209T153644Z
UID:10000402-1679648400-1679661000@sfar.org
SUMMARY:48ème réunion du club de l'histoire de l'anesthésie et de la réanimation
DESCRIPTION:Club d’Histoire de l’Anesthésie et de la Réanimation \n48 ème réunion scientifique du CHAR\n24 mars 2023 (09h00 – 12h15)\n \nPalais des congrès (Porte Maillot\, Paris)\nCongrès JEPU (3ème étage\, Salle Arlequin) \nPrésidents de séance : \nChavagnac Bruno (Lyon) Bernard Lenoir (Nogent sur Marne) \n09h00 : Robert Piqué (1877-1927) pionnier de l’aviation sanitaire.\nMarc Puidupin (Bordeaux). \n09h30 :  Les commissions du Chloroforme à Hyperabad (1888).\nJacques Hotton (Remiremont). \n10h00 : Genèse du SAMU français : naissance et développement d&#39;un service\nde prise en charge de l’urgence.\nCharles Antoine Waneck (Grenoble). \n11h00: Histoire de l’anesthésie africaine.\nMartin K Chobli (Cotonou\, Bénin). \n11h45 : Assemblée générale du CHAR (Y. Louville\, JB Cazalaà\, B Lenoir). \n12h15 : Fin de réunion. \nLa réunion sera enregistrée et les différentes communications seront mises sur le site en\ndifféré. \nCette réunion est accessible à tous les membres inscrits aux JEPU. \nPour les non-inscrits aux JEPU (Membres du CHAR et invités) une inscription préalable est\nnécessaire pour pouvoir entrer exclusivement et gratuitement à cette réunion du CHAR et à\nl’exposition des exposants (adresser les demandes à : jbcaz@orange.fr). \nLe stand spécifique du CHAR (situé près de la restauration) présentera des films\nanciens sur l’anesthésie durant tout le congrès.
URL:https://sfar.org/evenement/48eme-reunion-du-club-de-lhistoire-de-lanesthesie-et-de-la-reanimation/
LOCATION:Palais des congrès Salle Arlequin\, France
END:VEVENT
END:VCALENDAR