BEGIN:VCALENDAR
VERSION:2.0
PRODID:-//Société Française d’Anesthésie et de Réanimation - ECPv6.15.12.2//NONSGML v1.0//EN
CALSCALE:GREGORIAN
METHOD:PUBLISH
X-ORIGINAL-URL:https://sfar.org
X-WR-CALDESC:évènements pour Société Française d’Anesthésie et de Réanimation
REFRESH-INTERVAL;VALUE=DURATION:PT1H
X-Robots-Tag:noindex
X-PUBLISHED-TTL:PT1H
BEGIN:VTIMEZONE
TZID:Europe/Paris
BEGIN:DAYLIGHT
TZOFFSETFROM:+0100
TZOFFSETTO:+0200
TZNAME:CEST
DTSTART:20210328T010000
END:DAYLIGHT
BEGIN:STANDARD
TZOFFSETFROM:+0200
TZOFFSETTO:+0100
TZNAME:CET
DTSTART:20211031T010000
END:STANDARD
BEGIN:DAYLIGHT
TZOFFSETFROM:+0100
TZOFFSETTO:+0200
TZNAME:CEST
DTSTART:20220327T010000
END:DAYLIGHT
BEGIN:STANDARD
TZOFFSETFROM:+0200
TZOFFSETTO:+0100
TZNAME:CET
DTSTART:20221030T010000
END:STANDARD
BEGIN:DAYLIGHT
TZOFFSETFROM:+0100
TZOFFSETTO:+0200
TZNAME:CEST
DTSTART:20230326T010000
END:DAYLIGHT
BEGIN:STANDARD
TZOFFSETFROM:+0200
TZOFFSETTO:+0100
TZNAME:CET
DTSTART:20231029T010000
END:STANDARD
BEGIN:DAYLIGHT
TZOFFSETFROM:+0100
TZOFFSETTO:+0200
TZNAME:CEST
DTSTART:20240331T010000
END:DAYLIGHT
BEGIN:STANDARD
TZOFFSETFROM:+0200
TZOFFSETTO:+0100
TZNAME:CET
DTSTART:20241027T010000
END:STANDARD
BEGIN:DAYLIGHT
TZOFFSETFROM:+0100
TZOFFSETTO:+0200
TZNAME:CEST
DTSTART:20250330T010000
END:DAYLIGHT
BEGIN:STANDARD
TZOFFSETFROM:+0200
TZOFFSETTO:+0100
TZNAME:CET
DTSTART:20251026T010000
END:STANDARD
END:VTIMEZONE
BEGIN:VEVENT
DTSTART;VALUE=DATE:20241217
DTEND;VALUE=DATE:20241218
DTSTAMP:20260422T001029
CREATED:20241009T151432Z
LAST-MODIFIED:20241211T144423Z
UID:10000310-1734393600-1734479999@sfar.org
SUMMARY:Journée Respi
DESCRIPTION:  \nInscription non membre\n\n\n\n\n\nType inscriptions\nTarif\n\n\n\n\nMédecins\, internes\, FFI : membre SFAR à jour 2024\nGratuit\n\n\nInfirmiers (IADE & IDE) membre SFAR à jour 2024 avec Pack éducationnel\nGratuit\n\n\nEtudiants infirmiers\, membre SFAR  à jour 2024\nGratuit\n\n\nMédecin non-membre SFAR\n600 €*\n\n\nInterne non-membre SFAR\n150 €*\n\n\nParamédical non-membre SFAR\n300 €*\n\n\n\n\n  \nINSCRIPTIONS CLOSES\n  \nVeuillez noter que votre inscription implique un engagement ferme à participer à l’événement. Nous comptons sur votre présence et apprécierions que vous confirmiez votre disponibilité dès que possible. Le fait de s’inscrire implique la fermeture d’une place\, et a une influence sur l’organisation et la planification comme pour les pauses ou les repas.
URL:https://sfar.org/evenement/journee-respi/
LOCATION:CHU de Toulouse\, DAR\, place du dr joseph baylac Toulouse 31300
CATEGORIES:Formations,Formations médicales,SFAR JEUNES
ATTACH;FMTTYPE=image/png:https://sfar.org/wp-content/uploads/2024/10/Jeunes-V1.png
END:VEVENT
BEGIN:VEVENT
DTSTART;VALUE=DATE:20241004
DTEND;VALUE=DATE:20241005
DTSTAMP:20260422T001029
CREATED:20240917T134140Z
LAST-MODIFIED:20240925T075025Z
UID:10000292-1728000000-1728086399@sfar.org
SUMMARY:Formation Développement Durable au Bloc Opératoire - Toulouse
DESCRIPTION:  \nFormation annulée et reportée en 2025\nInscriptions non membre\n\n\n\n\n\nType inscriptions\nTarif\n\n\n\n\nMédecins\, internes\, FFI : membre SFAR à jour 2024\nGratuit\n\n\nInfirmiers (IADE & IDE) membre SFAR à jour 2024 avec Pack éducationnel\nGratuit\n\n\nEtudiants infirmiers\, membre SFAR  à jour 2024\nGratuit\n\n\nMédecin non-membre SFAR\n600 €*\n\n\nInterne non-membre SFAR\n150 €*\n\n\nParamédical non-membre SFAR\n300 €*\n\n\n\n\n\nInscriptions membre
URL:https://sfar.org/evenement/formation-developpement-durable-au-bloc-operatoire-toulouse/
LOCATION:CHU de Toulouse\, DAR\, place du dr joseph baylac Toulouse 31300
CATEGORIES:Développement Durable,Formations,Formations médicales
ATTACH;FMTTYPE=image/png:https://sfar.org/wp-content/uploads/2024/09/SFAR-DD.png
END:VEVENT
BEGIN:VEVENT
DTSTART;VALUE=DATE:20231206
DTEND;VALUE=DATE:20231208
DTSTAMP:20260422T001029
CREATED:20230913T082133Z
LAST-MODIFIED:20230913T082133Z
UID:10000284-1701820800-1701993599@sfar.org
SUMMARY:Sympo d’Anesthésie-Réanimation et Médecine Péri-Opératoire de Toulouse
DESCRIPTION:
URL:https://sfar.org/evenement/sympo-danesthesie-reanimation-et-medecine-peri-operatoire-de-toulouse/
LOCATION:CHU de Toulouse\, DAR\, place du dr joseph baylac Toulouse 31300
CATEGORIES:Congrès
ATTACH;FMTTYPE=image/png:https://sfar.org/wp-content/uploads/2023/09/image003.png
END:VEVENT
BEGIN:VEVENT
DTSTART;VALUE=DATE:20221207
DTEND;VALUE=DATE:20221210
DTSTAMP:20260422T001029
CREATED:20220926T113642Z
LAST-MODIFIED:20220926T113642Z
UID:10000382-1670371200-1670630399@sfar.org
SUMMARY:Congrès Toulouse - Le Sympo
DESCRIPTION:
URL:https://sfar.org/evenement/congres-toulouse-le-sympo/
LOCATION:CHU de Toulouse\, DAR\, place du dr joseph baylac Toulouse 31300
CATEGORIES:Congrès
ATTACH;FMTTYPE=image/png:https://sfar.org/wp-content/uploads/2022/09/Le-Sympo-Toulouse.png
END:VEVENT
END:VCALENDAR